BEGIN:VCALENDAR
VERSION:2.0
PRODID:-//OC - ECPv6.15.11//NONSGML v1.0//EN
CALSCALE:GREGORIAN
METHOD:PUBLISH
X-WR-CALNAME:OC
X-ORIGINAL-URL:https://ocskiclub.org
X-WR-CALDESC:Events for OC
REFRESH-INTERVAL;VALUE=DURATION:PT1H
X-Robots-Tag:noindex
X-PUBLISHED-TTL:PT1H
BEGIN:VTIMEZONE
TZID:UTC
BEGIN:STANDARD
TZOFFSETFROM:+0000
TZOFFSETTO:+0000
TZNAME:UTC
DTSTART:20230101T000000
END:STANDARD
END:VTIMEZONE
BEGIN:VTIMEZONE
TZID:America/New_York
BEGIN:DAYLIGHT
TZOFFSETFROM:-0500
TZOFFSETTO:-0400
TZNAME:EDT
DTSTART:20230312T070000
END:DAYLIGHT
BEGIN:STANDARD
TZOFFSETFROM:-0400
TZOFFSETTO:-0500
TZNAME:EST
DTSTART:20231105T060000
END:STANDARD
BEGIN:DAYLIGHT
TZOFFSETFROM:-0500
TZOFFSETTO:-0400
TZNAME:EDT
DTSTART:20240310T070000
END:DAYLIGHT
BEGIN:STANDARD
TZOFFSETFROM:-0400
TZOFFSETTO:-0500
TZNAME:EST
DTSTART:20241103T060000
END:STANDARD
BEGIN:DAYLIGHT
TZOFFSETFROM:-0500
TZOFFSETTO:-0400
TZNAME:EDT
DTSTART:20250309T070000
END:DAYLIGHT
BEGIN:STANDARD
TZOFFSETFROM:-0400
TZOFFSETTO:-0500
TZNAME:EST
DTSTART:20251102T060000
END:STANDARD
END:VTIMEZONE
BEGIN:VEVENT
DTSTART;TZID=UTC:20240709T183000
DTEND;TZID=UTC:20240709T193000
DTSTAMP:20260424T203412
CREATED:20240503T014725Z
LAST-MODIFIED:20240711T140313Z
UID:10000345-1720549800-1720553400@ocskiclub.org
SUMMARY:Board Meeting - Monthly
DESCRIPTION:Monthly Board Meetings – The first Thursday of each calendar month. Unless otherwise noted on the OC upcoming events calendar \nMeeting at the Polish Community Center in Albany. Meeting start at 6:30 typical taking one hour \nAny questions\, reach out to President@ocskiclub.org \nMembers of the OC Ski Club are welcome to come to the Board meeting
URL:https://ocskiclub.org/event/board-meeting-monthly-5/
LOCATION:Polish Community Center\, 225 Washington Ave Ext\, Albany\, New York\, 12205
CATEGORIES:Past Events
ATTACH;FMTTYPE=image/jpeg:https://ocskiclub.org/wp-content/uploads/2023/11/board-meeting-e1702430365886.jpg
END:VEVENT
BEGIN:VEVENT
DTSTART;TZID=America/New_York:20240709T180000
DTEND;TZID=America/New_York:20240709T210000
DTSTAMP:20260424T203412
CREATED:20240711T140121Z
LAST-MODIFIED:20240711T140122Z
UID:10000493-1720548000-1720558800@ocskiclub.org
SUMMARY:Tuesday Volleyball League Night
DESCRIPTION:Here is the OC website page for the Summer League \n  \nVolleyball summer-league
URL:https://ocskiclub.org/event/tuesday-volleyball-league-night-9/
LOCATION:Polish Community Center\, 225 Washington Ave Ext\, Albany\, New York\, 12205
CATEGORIES:Past Events
ATTACH;FMTTYPE=image/jpeg:https://ocskiclub.org/wp-content/uploads/2023/09/vball-2-e1712585551281.jpg
END:VEVENT
BEGIN:VEVENT
DTSTART;TZID=America/New_York:20240708T180000
DTEND;TZID=America/New_York:20240708T210000
DTSTAMP:20260424T203412
CREATED:20240711T140046Z
LAST-MODIFIED:20240711T140047Z
UID:10000430-1720461600-1720472400@ocskiclub.org
SUMMARY:Monday Volleyball League Night
DESCRIPTION:Here is the OC website page for the Summer League \n  \nVolleyball summer-league
URL:https://ocskiclub.org/event/monday-volleyball-league-night-9/
LOCATION:Polish Community Center\, 225 Washington Ave Ext\, Albany\, New York\, 12205
CATEGORIES:Past Events
ATTACH;FMTTYPE=image/jpeg:https://ocskiclub.org/wp-content/uploads/2023/09/vball-2-e1712585551281.jpg
END:VEVENT
BEGIN:VEVENT
DTSTART;TZID=America/New_York:20240702T180000
DTEND;TZID=America/New_York:20240702T210000
DTSTAMP:20260424T203412
CREATED:20240705T022505Z
LAST-MODIFIED:20240705T022505Z
UID:10000492-1719943200-1719954000@ocskiclub.org
SUMMARY:Tuesday Volleyball League Night
DESCRIPTION:Here is the OC website page for the Summer League \n  \nVolleyball summer-league
URL:https://ocskiclub.org/event/tuesday-volleyball-league-night-8/
LOCATION:Polish Community Center\, 225 Washington Ave Ext\, Albany\, New York\, 12205
CATEGORIES:Past Events
ATTACH;FMTTYPE=image/jpeg:https://ocskiclub.org/wp-content/uploads/2023/09/vball-2-e1712585551281.jpg
END:VEVENT
BEGIN:VEVENT
DTSTART;TZID=America/New_York:20240701T180000
DTEND;TZID=America/New_York:20240701T210000
DTSTAMP:20260424T203412
CREATED:20240705T022437Z
LAST-MODIFIED:20240705T022438Z
UID:10000429-1719856800-1719867600@ocskiclub.org
SUMMARY:Monday Volleyball League Night
DESCRIPTION:Here is the OC website page for the Summer League \n  \nVolleyball summer-league
URL:https://ocskiclub.org/event/monday-volleyball-league-night-8/
LOCATION:Polish Community Center\, 225 Washington Ave Ext\, Albany\, New York\, 12205
CATEGORIES:Past Events
ATTACH;FMTTYPE=image/jpeg:https://ocskiclub.org/wp-content/uploads/2023/09/vball-2-e1712585551281.jpg
END:VEVENT
BEGIN:VEVENT
DTSTART;TZID=America/New_York:20240625T180000
DTEND;TZID=America/New_York:20240625T210000
DTSTAMP:20260424T203412
CREATED:20240628T174834Z
LAST-MODIFIED:20240628T174834Z
UID:10000491-1719338400-1719349200@ocskiclub.org
SUMMARY:Tuesday Volleyball League Night
DESCRIPTION:Here is the OC website page for the Summer League \n  \nVolleyball summer-league
URL:https://ocskiclub.org/event/tuesday-volleyball-league-night-7/
LOCATION:Polish Community Center\, 225 Washington Ave Ext\, Albany\, New York\, 12205
CATEGORIES:Past Events
ATTACH;FMTTYPE=image/jpeg:https://ocskiclub.org/wp-content/uploads/2023/09/vball-2-e1712585551281.jpg
END:VEVENT
BEGIN:VEVENT
DTSTART;TZID=America/New_York:20240624T180000
DTEND;TZID=America/New_York:20240624T210000
DTSTAMP:20260424T203412
CREATED:20240628T174804Z
LAST-MODIFIED:20240628T174804Z
UID:10000428-1719252000-1719262800@ocskiclub.org
SUMMARY:Monday Volleyball League Night
DESCRIPTION:Here is the OC website page for the Summer League \n  \nVolleyball summer-league
URL:https://ocskiclub.org/event/monday-volleyball-league-night-7/
LOCATION:Polish Community Center\, 225 Washington Ave Ext\, Albany\, New York\, 12205
CATEGORIES:Past Events
ATTACH;FMTTYPE=image/jpeg:https://ocskiclub.org/wp-content/uploads/2023/09/vball-2-e1712585551281.jpg
END:VEVENT
BEGIN:VEVENT
DTSTART;TZID=America/New_York:20240618T180000
DTEND;TZID=America/New_York:20240618T210000
DTSTAMP:20260424T203412
CREATED:20240622T012715Z
LAST-MODIFIED:20240622T012715Z
UID:10000490-1718733600-1718744400@ocskiclub.org
SUMMARY:Tuesday Volleyball League Night
DESCRIPTION:Here is the OC website page for the Summer League \n  \nVolleyball summer-league
URL:https://ocskiclub.org/event/tuesday-volleyball-league-night-6/
LOCATION:Polish Community Center\, 225 Washington Ave Ext\, Albany\, New York\, 12205
CATEGORIES:Past Events
ATTACH;FMTTYPE=image/jpeg:https://ocskiclub.org/wp-content/uploads/2023/09/vball-2-e1712585551281.jpg
END:VEVENT
BEGIN:VEVENT
DTSTART;TZID=America/New_York:20240617T180000
DTEND;TZID=America/New_York:20240617T210000
DTSTAMP:20260424T203412
CREATED:20240622T012644Z
LAST-MODIFIED:20240622T012645Z
UID:10000427-1718647200-1718658000@ocskiclub.org
SUMMARY:Monday Volleyball League Night
DESCRIPTION:Here is the OC website page for the Summer League \n  \nVolleyball summer-league
URL:https://ocskiclub.org/event/monday-volleyball-league-night-6/
LOCATION:Polish Community Center\, 225 Washington Ave Ext\, Albany\, New York\, 12205
CATEGORIES:Past Events
ATTACH;FMTTYPE=image/jpeg:https://ocskiclub.org/wp-content/uploads/2023/09/vball-2-e1712585551281.jpg
END:VEVENT
BEGIN:VEVENT
DTSTART;TZID=America/New_York:20240611T180000
DTEND;TZID=America/New_York:20240611T210000
DTSTAMP:20260424T203412
CREATED:20240612T151713Z
LAST-MODIFIED:20240612T151713Z
UID:10000489-1718128800-1718139600@ocskiclub.org
SUMMARY:Tuesday Volleyball League Night
DESCRIPTION:Here is the OC website page for the Summer League \n  \nVolleyball summer-league
URL:https://ocskiclub.org/event/tuesday-volleyball-league-night-5/
LOCATION:Polish Community Center\, 225 Washington Ave Ext\, Albany\, New York\, 12205
CATEGORIES:Past Events
ATTACH;FMTTYPE=image/jpeg:https://ocskiclub.org/wp-content/uploads/2023/09/vball-2-e1712585551281.jpg
END:VEVENT
BEGIN:VEVENT
DTSTART;TZID=America/New_York:20240610T180000
DTEND;TZID=America/New_York:20240610T210000
DTSTAMP:20260424T203412
CREATED:20240612T151642Z
LAST-MODIFIED:20240612T151643Z
UID:10000426-1718042400-1718053200@ocskiclub.org
SUMMARY:Monday Volleyball League Night
DESCRIPTION:Here is the OC website page for the Summer League \n  \nVolleyball summer-league
URL:https://ocskiclub.org/event/monday-volleyball-league-night-5/
LOCATION:Polish Community Center\, 225 Washington Ave Ext\, Albany\, New York\, 12205
CATEGORIES:Past Events
ATTACH;FMTTYPE=image/jpeg:https://ocskiclub.org/wp-content/uploads/2023/09/vball-2-e1712585551281.jpg
END:VEVENT
BEGIN:VEVENT
DTSTART;TZID=UTC:20240606T193000
DTEND;TZID=UTC:20240606T210000
DTSTAMP:20260424T203412
CREATED:20240406T201345Z
LAST-MODIFIED:20240608T015441Z
UID:10000289-1717702200-1717707600@ocskiclub.org
SUMMARY:Regular Meeting at the PCC
DESCRIPTION:OC Ski Club – OC Regular Summer meeting schedule is the first Thursdays of the month \nThe OC Ski Club regular meetings are held at the Polish Community Center in Albany on Washington Ave Ext. The meeting start at 6:30 where you can meet with committee persons to conduct any activity you are looking to do. The bar is also opens at 6:30. OC business news & announcements are typically done around 7:30 to 8:00 depending on the what the President’s schedule is that evening. \nWe occasionally hold Happy Hour (off-site) “meetings” at various establishments throughout town. Be sure to check the https://ocskiclub.org/upcoming-events/ for these special dates. \n  \nPlease Note: NO outside beverages are allowed to be brought into the PCC (including bottled water). Beverages are available at the bar. \nAny questions\, reach out to admin@ocskiclub.org
URL:https://ocskiclub.org/event/regular-meeting-at-the-pcc-3/
LOCATION:Polish Community Center\, 225 Washington Ave Ext\, Albany\, New York\, 12205
CATEGORIES:Past Events
ATTACH;FMTTYPE=image/jpeg:https://ocskiclub.org/wp-content/uploads/2023/11/Meeting-Reminder-2.jpeg
END:VEVENT
BEGIN:VEVENT
DTSTART;TZID=UTC:20240606T183000
DTEND;TZID=UTC:20240606T193000
DTSTAMP:20260424T203412
CREATED:20240608T015416Z
LAST-MODIFIED:20240608T015416Z
UID:10000200-1717698600-1717702200@ocskiclub.org
SUMMARY:Board Meeting - Monthly
DESCRIPTION:Monthly Board Meetings – The first Thursday of each calendar month. Unless otherwise noted on the OC upcoming events calendar \nMeeting at the Polish Community Center in Albany. Meeting start at 6:30 typical taking one hour \nAny questions\, reach out to President@ocskiclub.org \nMembers of the OC Ski Club are welcome to come to the Board meeting
URL:https://ocskiclub.org/event/board-meeting-monthly-7/
LOCATION:Polish Community Center\, 225 Washington Ave Ext\, Albany\, New York\, 12205
CATEGORIES:Past Events
ATTACH;FMTTYPE=image/jpeg:https://ocskiclub.org/wp-content/uploads/2023/11/board-meeting-e1702430365886.jpg
END:VEVENT
BEGIN:VEVENT
DTSTART;TZID=America/New_York:20240604T180000
DTEND;TZID=America/New_York:20240604T210000
DTSTAMP:20260424T203412
CREATED:20240608T015321Z
LAST-MODIFIED:20240608T015321Z
UID:10000488-1717524000-1717534800@ocskiclub.org
SUMMARY:Tuesday Volleyball League Night
DESCRIPTION:Here is the OC website page for the Summer League \n  \nVolleyball summer-league
URL:https://ocskiclub.org/event/tuesday-volleyball-league-night-4/
LOCATION:Polish Community Center\, 225 Washington Ave Ext\, Albany\, New York\, 12205
CATEGORIES:Past Events
ATTACH;FMTTYPE=image/jpeg:https://ocskiclub.org/wp-content/uploads/2023/09/vball-2-e1712585551281.jpg
END:VEVENT
BEGIN:VEVENT
DTSTART;TZID=America/New_York:20240603T180000
DTEND;TZID=America/New_York:20240603T210000
DTSTAMP:20260424T203412
CREATED:20240608T015252Z
LAST-MODIFIED:20240608T015252Z
UID:10000425-1717437600-1717448400@ocskiclub.org
SUMMARY:Monday Volleyball League Night
DESCRIPTION:Here is the OC website page for the Summer League \n  \nVolleyball summer-league
URL:https://ocskiclub.org/event/monday-volleyball-league-night-4/
LOCATION:Polish Community Center\, 225 Washington Ave Ext\, Albany\, New York\, 12205
CATEGORIES:Past Events
ATTACH;FMTTYPE=image/jpeg:https://ocskiclub.org/wp-content/uploads/2023/09/vball-2-e1712585551281.jpg
END:VEVENT
BEGIN:VEVENT
DTSTART;TZID=America/New_York:20240528T180000
DTEND;TZID=America/New_York:20240528T210000
DTSTAMP:20260424T203412
CREATED:20240531T170435Z
LAST-MODIFIED:20240531T170435Z
UID:10000487-1716919200-1716930000@ocskiclub.org
SUMMARY:Tuesday Volleyball League Night
DESCRIPTION:Here is the OC website page for the Summer League \n  \nVolleyball summer-league
URL:https://ocskiclub.org/event/tuesday-volleyball-league-night-3/
LOCATION:Polish Community Center\, 225 Washington Ave Ext\, Albany\, New York\, 12205
CATEGORIES:Past Events
ATTACH;FMTTYPE=image/jpeg:https://ocskiclub.org/wp-content/uploads/2023/09/vball-2-e1712585551281.jpg
END:VEVENT
BEGIN:VEVENT
DTSTART;TZID=America/New_York:20240527T180000
DTEND;TZID=America/New_York:20240527T210000
DTSTAMP:20260424T203412
CREATED:20240531T170359Z
LAST-MODIFIED:20240531T170359Z
UID:10000424-1716832800-1716843600@ocskiclub.org
SUMMARY:Monday Volleyball League Night
DESCRIPTION:Here is the OC website page for the Summer League \n  \nVolleyball summer-league
URL:https://ocskiclub.org/event/monday-volleyball-league-night-3/
LOCATION:Polish Community Center\, 225 Washington Ave Ext\, Albany\, New York\, 12205
CATEGORIES:Past Events
ATTACH;FMTTYPE=image/jpeg:https://ocskiclub.org/wp-content/uploads/2023/09/vball-2-e1712585551281.jpg
END:VEVENT
BEGIN:VEVENT
DTSTART;TZID=America/New_York:20240521T180000
DTEND;TZID=America/New_York:20240521T210000
DTSTAMP:20260424T203412
CREATED:20240524T013856Z
LAST-MODIFIED:20240524T013857Z
UID:10000486-1716314400-1716325200@ocskiclub.org
SUMMARY:Tuesday Volleyball League Night
DESCRIPTION:Here is the OC website page for the Summer League \n  \nVolleyball summer-league
URL:https://ocskiclub.org/event/tuesday-volleyball-league-night-2/
LOCATION:Polish Community Center\, 225 Washington Ave Ext\, Albany\, New York\, 12205
CATEGORIES:Past Events
ATTACH;FMTTYPE=image/jpeg:https://ocskiclub.org/wp-content/uploads/2023/09/vball-2-e1712585551281.jpg
END:VEVENT
BEGIN:VEVENT
DTSTART;TZID=America/New_York:20240520T180000
DTEND;TZID=America/New_York:20240520T210000
DTSTAMP:20260424T203412
CREATED:20240524T013825Z
LAST-MODIFIED:20240524T013826Z
UID:10000423-1716228000-1716238800@ocskiclub.org
SUMMARY:Monday Volleyball League Night
DESCRIPTION:Here is the OC website page for the Summer League \n  \nVolleyball summer-league
URL:https://ocskiclub.org/event/monday-volleyball-league-night-2/
LOCATION:Polish Community Center\, 225 Washington Ave Ext\, Albany\, New York\, 12205
CATEGORIES:Past Events
ATTACH;FMTTYPE=image/jpeg:https://ocskiclub.org/wp-content/uploads/2023/09/vball-2-e1712585551281.jpg
END:VEVENT
BEGIN:VEVENT
DTSTART;TZID=America/New_York:20240514T180000
DTEND;TZID=America/New_York:20240514T210000
DTSTAMP:20260424T203412
CREATED:20240418T150541Z
LAST-MODIFIED:20240517T005257Z
UID:10000341-1715709600-1715720400@ocskiclub.org
SUMMARY:Tuesday Volleyball League Starts May 14
DESCRIPTION:Here is the OC website page for the Summer League \n  \nVolleyball summer-league
URL:https://ocskiclub.org/event/tuesday-volleyball-league-starts-may-14/
LOCATION:Polish Community Center\, 225 Washington Ave Ext\, Albany\, New York\, 12205
CATEGORIES:Past Events
ATTACH;FMTTYPE=image/jpeg:https://ocskiclub.org/wp-content/uploads/2023/09/vball-2-e1712585551281.jpg
END:VEVENT
BEGIN:VEVENT
DTSTART;TZID=America/New_York:20240513T180000
DTEND;TZID=America/New_York:20240513T210000
DTSTAMP:20260424T203412
CREATED:20240418T150152Z
LAST-MODIFIED:20240517T005225Z
UID:10000340-1715623200-1715634000@ocskiclub.org
SUMMARY:Monday Volleyball League Starts May 13
DESCRIPTION:Here is the OC website page for the Summer League \n  \nVolleyball summer-league
URL:https://ocskiclub.org/event/monday-volleyball-league-starts-may-13/
LOCATION:Polish Community Center\, 225 Washington Ave Ext\, Albany\, New York\, 12205
CATEGORIES:Past Events
ATTACH;FMTTYPE=image/jpeg:https://ocskiclub.org/wp-content/uploads/2023/09/vball-2-e1712585551281.jpg
END:VEVENT
BEGIN:VEVENT
DTSTART;TZID=America/New_York:20240511T100000
DTEND;TZID=America/New_York:20240511T123000
DTSTAMP:20260424T203412
CREATED:20240408T140934Z
LAST-MODIFIED:20240512T001612Z
UID:10000338-1715421600-1715430600@ocskiclub.org
SUMMARY:Volleyball league clean up day May 11th
DESCRIPTION:Clean-up Day is Saturday May 11 @ 10 AM \nEvery team must have at least 1 person present on one of the two days. \nIt generally is only 2 hours or so but we also set up a few nets to have some pickup play for those interested…..   bring rakes and maybe gloves. .. \nThank you!!! \n  \nLeague Play Begins: May 13th & 14th @ 6 PM
URL:https://ocskiclub.org/event/volleyball-league-clean-up-day-may-11th/
LOCATION:Polish Community Center\, 225 Washington Ave Ext\, Albany\, New York\, 12205
CATEGORIES:Past Events
ATTACH;FMTTYPE=image/jpeg:https://ocskiclub.org/wp-content/uploads/2023/09/vball-2-e1712585551281.jpg
END:VEVENT
BEGIN:VEVENT
DTSTART;TZID=UTC:20240502T183000
DTEND;TZID=UTC:20240502T193000
DTSTAMP:20260424T203412
CREATED:20240406T200932Z
LAST-MODIFIED:20240503T014012Z
UID:10000199-1714674600-1714678200@ocskiclub.org
SUMMARY:Board Meeting - Monthly
DESCRIPTION:Monthly Board Meetings – The first Thursday of each calendar month. Unless otherwise noted on the OC upcoming events calendar \nMeeting at the Polish Community Center in Albany. Meeting start at 6:30 typical taking one hour \nAny questions\, reach out to President@ocskiclub.org \nMembers of the OC Ski Club are welcome to come to the Board meeting
URL:https://ocskiclub.org/event/board-meeting-monthly-3/
LOCATION:Polish Community Center\, 225 Washington Ave Ext\, Albany\, New York\, 12205
CATEGORIES:Past Events
ATTACH;FMTTYPE=image/jpeg:https://ocskiclub.org/wp-content/uploads/2023/11/board-meeting-e1702430365886.jpg
END:VEVENT
BEGIN:VEVENT
DTSTART;TZID=UTC:20240404T183000
DTEND;TZID=UTC:20240404T193000
DTSTAMP:20260424T203412
CREATED:20240406T201052Z
LAST-MODIFIED:20240406T201052Z
UID:10000198-1712255400-1712259000@ocskiclub.org
SUMMARY:Board Meeting - Monthly
DESCRIPTION:Monthly Board Meetings – The first Thursday of each calendar month. Unless otherwise noted on the OC upcoming events calendar \nMeeting at the Polish Community Center in Albany. Meeting start at 6:30 typical taking one hour \nAny questions\, reach out to President@ocskiclub.org \nMembers of the OC Ski Club are welcome to come to the Board meeting
URL:https://ocskiclub.org/event/board-meeting-monthly-4/
LOCATION:Polish Community Center\, 225 Washington Ave Ext\, Albany\, New York\, 12205
CATEGORIES:Past Events
ATTACH;FMTTYPE=image/jpeg:https://ocskiclub.org/wp-content/uploads/2023/11/board-meeting-e1702430365886.jpg
END:VEVENT
BEGIN:VEVENT
DTSTART;VALUE=DATE:20240404
DTEND;VALUE=DATE:20240405
DTSTAMP:20260424T203412
CREATED:20240304T220416Z
LAST-MODIFIED:20240512T001533Z
UID:10000261-1712188800-1712275199@ocskiclub.org
SUMMARY:Volleyball league registration starts April 4
DESCRIPTION:Online registration for the OC Summer Volleyball leagues will open on Thursday April 4th. \nLeague formats include: \n Monday: Competitive Co-ed 4’s \nTuesday: Competitive and Recreational Co-ed 6’s \n  \nImportant Dates: \nOnline League Registration Opens Thursday April 4th \nRegistration is required for all league play. Online registration will remain open until each league is full.  Participants must be members of the OC Ski Club and over the age of 18.  Registration is on a first come\, first served basis. Detailed registration information will be posted on the OC website in April. \n  \nIn Person League Registration: Thursday April 25th (if necessary) @ 7 PM \nClean up Date: Saturday May 11th @ 10 AM (One team member must attend) \nLeague Play Begins: Week of May 13th @ 6 PM \nFall Volleyball Tournament: Saturday\, September 14\, 2024 (save the date!) \n  \nFor more information on Volleyball and to contact the volleyball committee\, visit   OC Volleyball league webpage \nWe look forward to seeing you on the courts!! \n 
URL:https://ocskiclub.org/event/volleyball-league-registration-starts-april-4/
LOCATION:Polish Community Center\, 225 Washington Ave Ext\, Albany\, New York\, 12205
CATEGORIES:Past Events
ATTACH;FMTTYPE=image/jpeg:https://ocskiclub.org/wp-content/uploads/2023/10/banner_volleyball2-300x300-2.jpg
END:VEVENT
BEGIN:VEVENT
DTSTART;VALUE=DATE:20240331
DTEND;VALUE=DATE:20240401
DTSTAMP:20260424T203412
CREATED:20240331T030519Z
LAST-MODIFIED:20240412T132518Z
UID:10000277-1711843200-1711929599@ocskiclub.org
SUMMARY:Election Results
DESCRIPTION:Here are the election results \nElection Result PDF \n  \n  \n 
URL:https://ocskiclub.org/event/election-results/
LOCATION:Polish Community Center\, 225 Washington Ave Ext\, Albany\, New York\, 12205
CATEGORIES:Past Events
ATTACH;FMTTYPE=image/jpeg:https://ocskiclub.org/wp-content/uploads/2024/03/vote-e1709574161910.jpg
END:VEVENT
BEGIN:VEVENT
DTSTART;TZID=UTC:20240328T183000
DTEND;TZID=UTC:20240328T200000
DTSTAMP:20260424T203412
CREATED:20240304T223923Z
LAST-MODIFIED:20240329T162331Z
UID:10000265-1711650600-1711656000@ocskiclub.org
SUMMARY:Election Night March 28
DESCRIPTION:This webpage has all the nominations for the positions of Club Officers and Board of Directors.   Nomination Bios \n  \nMEMBERS:   Come to the March 28th meeting to participate in this year’s Elections for Officers & Board Members.   Bring your membership card (or ID) to check in\, receive your ballot and a free drink coupon (valid for 1 beer\, wine\, soda\, or $5 toward a cocktail). \nOur President\, VP for Organized Skiing\, Treasurer\, & Secretary positions are unopposed but we will have 2 candidates running for VP for Administration and 14 people running for 10 board positions. \nCome meet the candidates and listen to the speeches that they will offer.    Doors open @6:30pm\, Speeches @7:00pm and Meeting/Elections begin @7:30. \nWe are looking for volunteers to 1) check members in  and/or 2) count the paper ballots.   Contact Gail @elections@ocskiclub.org or 518.956.4363 (text/call) \n  \nThis webpage has information about the OC Elections     ELECTION LINK \n 
URL:https://ocskiclub.org/event/election-night-march-28/
LOCATION:Polish Community Center\, 225 Washington Ave Ext\, Albany\, New York\, 12205
CATEGORIES:Past Events
ATTACH;FMTTYPE=image/jpeg:https://ocskiclub.org/wp-content/uploads/2024/03/vote-e1709574161910.jpg
END:VEVENT
BEGIN:VEVENT
DTSTART;TZID=UTC:20240314T193000
DTEND;TZID=UTC:20240314T200000
DTSTAMP:20260424T203412
CREATED:20240304T223827Z
LAST-MODIFIED:20240315T045912Z
UID:10000264-1710444600-1710446400@ocskiclub.org
SUMMARY:Election Nominations March 14
DESCRIPTION:All election information can be found on this ELECTION LINK \nThe Ski Club will need a new VP of Administration as Erin O’Brien is not going to run again this year. \nAny OC Member can run for any Officers or Board of Directors position.
URL:https://ocskiclub.org/event/election-nominations-march-14/
LOCATION:Polish Community Center\, 225 Washington Ave Ext\, Albany\, New York\, 12205
CATEGORIES:Past Events
ATTACH;FMTTYPE=image/jpeg:https://ocskiclub.org/wp-content/uploads/2024/03/vote-e1709574161910.jpg
END:VEVENT
BEGIN:VEVENT
DTSTART;TZID=UTC:20240307T193000
DTEND;TZID=UTC:20240307T200000
DTSTAMP:20260424T203412
CREATED:20240304T223032Z
LAST-MODIFIED:20240308T080808Z
UID:10000263-1709839800-1709841600@ocskiclub.org
SUMMARY:Election Nominations March 7
DESCRIPTION:All election information can be found on this ELECTION LINK \nThe Ski Club will need a new VP of Administration as Erin O’Brien is not going to run again this year. \nAny OC Member can run for any Officers or Board of Directors position.
URL:https://ocskiclub.org/event/election-nominations-march-7/
LOCATION:Polish Community Center\, 225 Washington Ave Ext\, Albany\, New York\, 12205
CATEGORIES:Past Events
ATTACH;FMTTYPE=image/jpeg:https://ocskiclub.org/wp-content/uploads/2024/03/vote-e1709574161910.jpg
END:VEVENT
BEGIN:VEVENT
DTSTART;TZID=UTC:20240307T190000
DTEND;TZID=UTC:20240307T210000
DTSTAMP:20260424T203412
CREATED:20240212T021625Z
LAST-MODIFIED:20240308T080740Z
UID:10000258-1709838000-1709845200@ocskiclub.org
SUMMARY:Social Mixer Thursday March 7
DESCRIPTION:Thursday March 7th meet and greet social mixer! Snacks provided! \nGames to win drinks and prizes including a $100 gift card raffle from Adirondack All Seasons Outfitters at 3196 NY-28\, North Creek\, NY 12853! \nBring a friend\, if they sign up to be a member you get a free drink ticket! \nGreat opportunity to meet new ski buddies! \nThis is what the OC’s are all about. We are a social group of people who share the common love of winter sports. \nFind out all the cool stuff we do in the Winer PLUS all the cool stuff we do in the “Off” season (summer).
URL:https://ocskiclub.org/event/social-mixer-thursday-march-7/
LOCATION:Polish Community Center\, 225 Washington Ave Ext\, Albany\, New York\, 12205
CATEGORIES:Past Events
ATTACH;FMTTYPE=image/jpeg:https://ocskiclub.org/wp-content/uploads/2023/11/Email-list-webpage.jpg
END:VEVENT
END:VCALENDAR