BEGIN:VCALENDAR
VERSION:2.0
PRODID:-//OC - ECPv6.15.11//NONSGML v1.0//EN
CALSCALE:GREGORIAN
METHOD:PUBLISH
X-WR-CALNAME:OC
X-ORIGINAL-URL:https://ocskiclub.org
X-WR-CALDESC:Events for OC
REFRESH-INTERVAL;VALUE=DURATION:PT1H
X-Robots-Tag:noindex
X-PUBLISHED-TTL:PT1H
BEGIN:VTIMEZONE
TZID:UTC
BEGIN:STANDARD
TZOFFSETFROM:+0000
TZOFFSETTO:+0000
TZNAME:UTC
DTSTART:20230101T000000
END:STANDARD
END:VTIMEZONE
BEGIN:VTIMEZONE
TZID:America/New_York
BEGIN:DAYLIGHT
TZOFFSETFROM:-0500
TZOFFSETTO:-0400
TZNAME:EDT
DTSTART:20230312T070000
END:DAYLIGHT
BEGIN:STANDARD
TZOFFSETFROM:-0400
TZOFFSETTO:-0500
TZNAME:EST
DTSTART:20231105T060000
END:STANDARD
BEGIN:DAYLIGHT
TZOFFSETFROM:-0500
TZOFFSETTO:-0400
TZNAME:EDT
DTSTART:20240310T070000
END:DAYLIGHT
BEGIN:STANDARD
TZOFFSETFROM:-0400
TZOFFSETTO:-0500
TZNAME:EST
DTSTART:20241103T060000
END:STANDARD
BEGIN:DAYLIGHT
TZOFFSETFROM:-0500
TZOFFSETTO:-0400
TZNAME:EDT
DTSTART:20250309T070000
END:DAYLIGHT
BEGIN:STANDARD
TZOFFSETFROM:-0400
TZOFFSETTO:-0500
TZNAME:EST
DTSTART:20251102T060000
END:STANDARD
END:VTIMEZONE
BEGIN:VEVENT
DTSTART;TZID=UTC:20240905T183000
DTEND;TZID=UTC:20240905T210000
DTSTAMP:20260425T095449
CREATED:20240503T142554Z
LAST-MODIFIED:20240503T142554Z
UID:10000406-1725561000-1725570000@ocskiclub.org
SUMMARY:Regular Meeting at the PCC
DESCRIPTION:OC Ski Club – OC Regular Summer meeting schedule is the first Thursdays of the month \nThe OC Ski Club regular meetings are held at the Polish Community Center in Albany on Washington Ave Ext. The meeting start at 6:30 where you can meet with committee persons to conduct any activity you are looking to do. The bar is also opens at 6:30. OC business news & announcements are typically done around 7:30 to 8:00 depending on the what the President’s schedule is that evening. \nWe occasionally hold Happy Hour (off-site) “meetings” at various establishments throughout town. Be sure to check the https://ocskiclub.org/upcoming-events/ for these special dates. \n  \nPlease Note: NO outside beverages are allowed to be brought into the PCC (including bottled water). Beverages are available at the bar. \nAny questions\, reach out to admin@ocskiclub.org
URL:https://ocskiclub.org/event/regular-meeting-at-the-pcc-7/
LOCATION:Polish Community Center\, 225 Washington Ave Ext\, Albany\, New York\, 12205
CATEGORIES:Upcoming Events
ATTACH;FMTTYPE=image/jpeg:https://ocskiclub.org/wp-content/uploads/2023/11/Meeting-Reminder-2.jpeg
END:VEVENT
BEGIN:VEVENT
DTSTART;TZID=UTC:20240905T183000
DTEND;TZID=UTC:20240905T193000
DTSTAMP:20260425T095449
CREATED:20231231T222651Z
LAST-MODIFIED:20231231T224359Z
UID:10000203-1725561000-1725564600@ocskiclub.org
SUMMARY:Board Meeting - Monthly
DESCRIPTION:Monthly Board Meetings – The first Thursday of each calendar month. Unless otherwise noted on the OC upcoming events calendar \nMeeting at the Polish Community Center in Albany. Meeting start at 6:30 typical taking one hour \nAny questions\, reach out to President@ocskiclub.org \nMembers of the OC Ski Club are welcome to come to the Board meeting
URL:https://ocskiclub.org/event/board-meeting-monthly/2024-09-05/
LOCATION:Polish Community Center\, 225 Washington Ave Ext\, Albany\, New York\, 12205
CATEGORIES:Upcoming Events
ATTACH;FMTTYPE=image/jpeg:https://ocskiclub.org/wp-content/uploads/2023/11/board-meeting-e1702430365886.jpg
END:VEVENT
BEGIN:VEVENT
DTSTART;TZID=America/New_York:20240903T180000
DTEND;TZID=America/New_York:20240903T210000
DTSTAMP:20260425T095449
CREATED:20240517T005120Z
LAST-MODIFIED:20240622T012949Z
UID:10000501-1725386400-1725397200@ocskiclub.org
SUMMARY:Tuesday Volleyball League Night
DESCRIPTION:Here is the OC website page for the Summer League \n  \nVolleyball summer-league
URL:https://ocskiclub.org/event/tuesday-volleyball-league-night/2024-09-03/
LOCATION:Polish Community Center\, 225 Washington Ave Ext\, Albany\, New York\, 12205
CATEGORIES:Upcoming Events
ATTACH;FMTTYPE=image/jpeg:https://ocskiclub.org/wp-content/uploads/2023/09/vball-2-e1712585551281.jpg
END:VEVENT
BEGIN:VEVENT
DTSTART;TZID=America/New_York:20240827T180000
DTEND;TZID=America/New_York:20240827T210000
DTSTAMP:20260425T095449
CREATED:20240517T005120Z
LAST-MODIFIED:20240622T012949Z
UID:10000500-1724781600-1724792400@ocskiclub.org
SUMMARY:Tuesday Volleyball League Night
DESCRIPTION:Here is the OC website page for the Summer League \n  \nVolleyball summer-league
URL:https://ocskiclub.org/event/tuesday-volleyball-league-night/2024-08-27/
LOCATION:Polish Community Center\, 225 Washington Ave Ext\, Albany\, New York\, 12205
CATEGORIES:Upcoming Events
ATTACH;FMTTYPE=image/jpeg:https://ocskiclub.org/wp-content/uploads/2023/09/vball-2-e1712585551281.jpg
END:VEVENT
BEGIN:VEVENT
DTSTART;TZID=America/New_York:20240826T180000
DTEND;TZID=America/New_York:20240826T210000
DTSTAMP:20260425T095449
CREATED:20240517T005003Z
LAST-MODIFIED:20240622T012904Z
UID:10000437-1724695200-1724706000@ocskiclub.org
SUMMARY:Monday Volleyball League Night
DESCRIPTION:Here is the OC website page for the Summer League \n  \nVolleyball summer-league
URL:https://ocskiclub.org/event/monday-volleyball-league-night/2024-08-26/
LOCATION:Polish Community Center\, 225 Washington Ave Ext\, Albany\, New York\, 12205
CATEGORIES:Upcoming Events
ATTACH;FMTTYPE=image/jpeg:https://ocskiclub.org/wp-content/uploads/2023/09/vball-2-e1712585551281.jpg
END:VEVENT
BEGIN:VEVENT
DTSTART;TZID=America/New_York:20240821T160000
DTEND;TZID=America/New_York:20240821T190000
DTSTAMP:20260425T095449
CREATED:20240508T164013Z
LAST-MODIFIED:20240812T231758Z
UID:10000420-1724256000-1724266800@ocskiclub.org
SUMMARY:Happy Hour Wed August 21
DESCRIPTION:Next Happy Hour: Wednesday August 21st \n4;00 to -7;00 pm \nPhilly Bar & Lounge\n622 Watervliet-Shaker Rd.\nLatham\, NY 12110\n(518) 785-6559 \nMain Bar on the First Floor – Patio Will Be Open \nPhilly Bar Website Link \n 
URL:https://ocskiclub.org/event/happy-hour-wed-august-21/
LOCATION:New York
CATEGORIES:Upcoming Events
ATTACH;FMTTYPE=image/jpeg:https://ocskiclub.org/wp-content/uploads/2023/12/happy_hour_logo.jpg
END:VEVENT
BEGIN:VEVENT
DTSTART;TZID=America/New_York:20240820T180000
DTEND;TZID=America/New_York:20240820T210000
DTSTAMP:20260425T095449
CREATED:20240517T005120Z
LAST-MODIFIED:20240622T012949Z
UID:10000499-1724176800-1724187600@ocskiclub.org
SUMMARY:Tuesday Volleyball League Night
DESCRIPTION:Here is the OC website page for the Summer League \n  \nVolleyball summer-league
URL:https://ocskiclub.org/event/tuesday-volleyball-league-night/2024-08-20/
LOCATION:Polish Community Center\, 225 Washington Ave Ext\, Albany\, New York\, 12205
CATEGORIES:Upcoming Events
ATTACH;FMTTYPE=image/jpeg:https://ocskiclub.org/wp-content/uploads/2023/09/vball-2-e1712585551281.jpg
END:VEVENT
BEGIN:VEVENT
DTSTART;TZID=America/New_York:20240819T180000
DTEND;TZID=America/New_York:20240819T210000
DTSTAMP:20260425T095449
CREATED:20240517T005003Z
LAST-MODIFIED:20240622T012904Z
UID:10000436-1724090400-1724101200@ocskiclub.org
SUMMARY:Monday Volleyball League Night
DESCRIPTION:Here is the OC website page for the Summer League \n  \nVolleyball summer-league
URL:https://ocskiclub.org/event/monday-volleyball-league-night/2024-08-19/
LOCATION:Polish Community Center\, 225 Washington Ave Ext\, Albany\, New York\, 12205
CATEGORIES:Upcoming Events
ATTACH;FMTTYPE=image/jpeg:https://ocskiclub.org/wp-content/uploads/2023/09/vball-2-e1712585551281.jpg
END:VEVENT
BEGIN:VEVENT
DTSTART;TZID=America/New_York:20240813T190000
DTEND;TZID=America/New_York:20240813T193000
DTSTAMP:20260425T095449
CREATED:20240731T140554Z
LAST-MODIFIED:20240731T140635Z
UID:10000619-1723575600-1723577400@ocskiclub.org
SUMMARY:Bowling with Friends August 13
DESCRIPTION:Bowling night – Friends with Friends Event \n\nTues August 13th starts at 7:00 pm. Please be 10 minutes early \nSpare Time at 570 Columbia Turnpike in East Greenbush.\n$15/person.   Pay at bowling alley. Please bring CASH\nUnlimited bowling\, unlimited cheese pizza slices and shoe rental included.\n(No outside food or drink permitted)\nI do not have to commit to the number of people for this deal\, however it would be nice to know who is coming and we can make teams. \nIf everyone enjoys it\, we could do it once a month. \nContact Cathy Marvin at bowling@ocskiclub.org
URL:https://ocskiclub.org/event/bowling-with-friends-august-13/
LOCATION:New York
CATEGORIES:Upcoming Events
ATTACH;FMTTYPE=image/jpeg:https://ocskiclub.org/wp-content/uploads/2019/04/bowling-658386_1920.jpg
END:VEVENT
BEGIN:VEVENT
DTSTART;TZID=America/New_York:20240813T180000
DTEND;TZID=America/New_York:20240813T210000
DTSTAMP:20260425T095449
CREATED:20240517T005120Z
LAST-MODIFIED:20240622T012949Z
UID:10000498-1723572000-1723582800@ocskiclub.org
SUMMARY:Tuesday Volleyball League Night
DESCRIPTION:Here is the OC website page for the Summer League \n  \nVolleyball summer-league
URL:https://ocskiclub.org/event/tuesday-volleyball-league-night/2024-08-13/
LOCATION:Polish Community Center\, 225 Washington Ave Ext\, Albany\, New York\, 12205
CATEGORIES:Upcoming Events
ATTACH;FMTTYPE=image/jpeg:https://ocskiclub.org/wp-content/uploads/2023/09/vball-2-e1712585551281.jpg
END:VEVENT
BEGIN:VEVENT
DTSTART;TZID=America/New_York:20240812T180000
DTEND;TZID=America/New_York:20240812T210000
DTSTAMP:20260425T095449
CREATED:20240517T005003Z
LAST-MODIFIED:20240622T012904Z
UID:10000435-1723485600-1723496400@ocskiclub.org
SUMMARY:Monday Volleyball League Night
DESCRIPTION:Here is the OC website page for the Summer League \n  \nVolleyball summer-league
URL:https://ocskiclub.org/event/monday-volleyball-league-night/2024-08-12/
LOCATION:Polish Community Center\, 225 Washington Ave Ext\, Albany\, New York\, 12205
CATEGORIES:Upcoming Events
ATTACH;FMTTYPE=image/jpeg:https://ocskiclub.org/wp-content/uploads/2023/09/vball-2-e1712585551281.jpg
END:VEVENT
BEGIN:VEVENT
DTSTART;TZID=UTC:20240808T183000
DTEND;TZID=UTC:20240808T210000
DTSTAMP:20260425T095449
CREATED:20240503T142432Z
LAST-MODIFIED:20240711T140624Z
UID:10000405-1723141800-1723150800@ocskiclub.org
SUMMARY:Regular Meeting at the PCC
DESCRIPTION:OC Ski Club – OC Regular Summer meeting schedule is the first Thursdays of the month \nThe OC Ski Club regular meetings are held at the Polish Community Center in Albany on Washington Ave Ext. The meeting start at 6:30 where you can meet with committee persons to conduct any activity you are looking to do. The bar is also opens at 6:30. OC business news & announcements are typically done around 7:30 to 8:00 depending on the what the President’s schedule is that evening. \nWe occasionally hold Happy Hour (off-site) “meetings” at various establishments throughout town. Be sure to check the https://ocskiclub.org/upcoming-events/ for these special dates. \n  \nPlease Note: NO outside beverages are allowed to be brought into the PCC (including bottled water). Beverages are available at the bar. \nAny questions\, reach out to admin@ocskiclub.org
URL:https://ocskiclub.org/event/regular-meeting-at-the-pcc-6/
LOCATION:Polish Community Center\, 225 Washington Ave Ext\, Albany\, New York\, 12205
CATEGORIES:Upcoming Events
ATTACH;FMTTYPE=image/jpeg:https://ocskiclub.org/wp-content/uploads/2023/11/Meeting-Reminder-2.jpeg
END:VEVENT
BEGIN:VEVENT
DTSTART;TZID=UTC:20240808T183000
DTEND;TZID=UTC:20240808T193000
DTSTAMP:20260425T095449
CREATED:20240711T140747Z
LAST-MODIFIED:20240711T140747Z
UID:10000616-1723141800-1723145400@ocskiclub.org
SUMMARY:Board Meeting - August 8th
DESCRIPTION:Monthly Board Meetings – The first Thursday of each calendar month. Unless otherwise noted on the OC upcoming events calendar \nMeeting at the Polish Community Center in Albany. Meeting start at 6:30 typical taking one hour \nAny questions\, reach out to President@ocskiclub.org \nMembers of the OC Ski Club are welcome to come to the Board meeting
URL:https://ocskiclub.org/event/board-meeting-august-8th/
LOCATION:Polish Community Center\, 225 Washington Ave Ext\, Albany\, New York\, 12205
CATEGORIES:Upcoming Events
ATTACH;FMTTYPE=image/jpeg:https://ocskiclub.org/wp-content/uploads/2023/11/board-meeting-e1702430365886.jpg
END:VEVENT
BEGIN:VEVENT
DTSTART;TZID=UTC:20240808T183000
DTEND;TZID=UTC:20240808T193000
DTSTAMP:20260425T095449
CREATED:20240503T142731Z
LAST-MODIFIED:20240711T140842Z
UID:10000408-1723141800-1723145400@ocskiclub.org
SUMMARY:Board Meeting - August 8th
DESCRIPTION:Monthly Board Meetings – The first Thursday of each calendar month. Unless otherwise noted on the OC upcoming events calendar \nMeeting at the Polish Community Center in Albany. Meeting start at 6:30 typical taking one hour \nAny questions\, reach out to President@ocskiclub.org \nMembers of the OC Ski Club are welcome to come to the Board meeting
URL:https://ocskiclub.org/event/board-meeting-monthly-6/
LOCATION:Polish Community Center\, 225 Washington Ave Ext\, Albany\, New York\, 12205
CATEGORIES:Past Events
ATTACH;FMTTYPE=image/jpeg:https://ocskiclub.org/wp-content/uploads/2023/11/board-meeting-e1702430365886.jpg
END:VEVENT
BEGIN:VEVENT
DTSTART;TZID=America/New_York:20240807T160000
DTEND;TZID=America/New_York:20240807T190000
DTSTAMP:20260425T095449
CREATED:20240508T163859Z
LAST-MODIFIED:20240802T135759Z
UID:10000419-1723046400-1723057200@ocskiclub.org
SUMMARY:Happy Hour Wed August 7
DESCRIPTION:Next Happy Hour: Wednesday August 7th \n4;00 to -7;00 pm \nPhilly Bar & Lounge\n622 Watervliet-Shaker Rd.\nLatham\, NY 12110\n(518) 785-6559 \nMain Bar on the First Floor – Patio Will Be Open \nPhilly Bar Website Link \n 
URL:https://ocskiclub.org/event/happy-hour-wed-august-7/
LOCATION:New York
CATEGORIES:Upcoming Events
ATTACH;FMTTYPE=image/jpeg:https://ocskiclub.org/wp-content/uploads/2023/12/happy_hour_logo.jpg
END:VEVENT
BEGIN:VEVENT
DTSTART;TZID=America/New_York:20240806T180000
DTEND;TZID=America/New_York:20240806T210000
DTSTAMP:20260425T095449
CREATED:20240517T005120Z
LAST-MODIFIED:20240622T012949Z
UID:10000497-1722967200-1722978000@ocskiclub.org
SUMMARY:Tuesday Volleyball League Night
DESCRIPTION:Here is the OC website page for the Summer League \n  \nVolleyball summer-league
URL:https://ocskiclub.org/event/tuesday-volleyball-league-night/2024-08-06/
LOCATION:Polish Community Center\, 225 Washington Ave Ext\, Albany\, New York\, 12205
CATEGORIES:Upcoming Events
ATTACH;FMTTYPE=image/jpeg:https://ocskiclub.org/wp-content/uploads/2023/09/vball-2-e1712585551281.jpg
END:VEVENT
BEGIN:VEVENT
DTSTART;TZID=America/New_York:20240805T180000
DTEND;TZID=America/New_York:20240805T210000
DTSTAMP:20260425T095449
CREATED:20240517T005003Z
LAST-MODIFIED:20240622T012904Z
UID:10000434-1722880800-1722891600@ocskiclub.org
SUMMARY:Monday Volleyball League Night
DESCRIPTION:Here is the OC website page for the Summer League \n  \nVolleyball summer-league
URL:https://ocskiclub.org/event/monday-volleyball-league-night/2024-08-05/
LOCATION:Polish Community Center\, 225 Washington Ave Ext\, Albany\, New York\, 12205
CATEGORIES:Upcoming Events
ATTACH;FMTTYPE=image/jpeg:https://ocskiclub.org/wp-content/uploads/2023/09/vball-2-e1712585551281.jpg
END:VEVENT
BEGIN:VEVENT
DTSTART;TZID=America/New_York:20240730T180000
DTEND;TZID=America/New_York:20240730T210000
DTSTAMP:20260425T095449
CREATED:20240517T005120Z
LAST-MODIFIED:20240622T012949Z
UID:10000496-1722362400-1722373200@ocskiclub.org
SUMMARY:Tuesday Volleyball League Night
DESCRIPTION:Here is the OC website page for the Summer League \n  \nVolleyball summer-league
URL:https://ocskiclub.org/event/tuesday-volleyball-league-night/2024-07-30/
LOCATION:Polish Community Center\, 225 Washington Ave Ext\, Albany\, New York\, 12205
CATEGORIES:Upcoming Events
ATTACH;FMTTYPE=image/jpeg:https://ocskiclub.org/wp-content/uploads/2023/09/vball-2-e1712585551281.jpg
END:VEVENT
BEGIN:VEVENT
DTSTART;TZID=America/New_York:20240729T180000
DTEND;TZID=America/New_York:20240729T210000
DTSTAMP:20260425T095449
CREATED:20240517T005003Z
LAST-MODIFIED:20240622T012904Z
UID:10000433-1722276000-1722286800@ocskiclub.org
SUMMARY:Monday Volleyball League Night
DESCRIPTION:Here is the OC website page for the Summer League \n  \nVolleyball summer-league
URL:https://ocskiclub.org/event/monday-volleyball-league-night/2024-07-29/
LOCATION:Polish Community Center\, 225 Washington Ave Ext\, Albany\, New York\, 12205
CATEGORIES:Upcoming Events
ATTACH;FMTTYPE=image/jpeg:https://ocskiclub.org/wp-content/uploads/2023/09/vball-2-e1712585551281.jpg
END:VEVENT
BEGIN:VEVENT
DTSTART;TZID=America/New_York:20240724T160000
DTEND;TZID=America/New_York:20240724T190000
DTSTAMP:20260425T095449
CREATED:20240508T163255Z
LAST-MODIFIED:20240726T134741Z
UID:10000417-1721836800-1721847600@ocskiclub.org
SUMMARY:Happy Hour Wednesday July 24
DESCRIPTION:Next Happy Hour: Wednesday July 24th \n4:00 to -7:00 pm at Korner Bar and Grille \n1770  Central Ave\, Colonie \nVillage Square Plaza\, Strip mall just before Kohl’s. It is really hidden in the corner next to Subway \nFood/drink specials until 6:00 \nBig prize raffle you don’t want to miss
URL:https://ocskiclub.org/event/happy-hour-wednesday-july-124/
LOCATION:New York
CATEGORIES:Past Events
ATTACH;FMTTYPE=image/jpeg:https://ocskiclub.org/wp-content/uploads/2023/12/happy_hour_logo.jpg
END:VEVENT
BEGIN:VEVENT
DTSTART;TZID=America/New_York:20240723T190000
DTEND;TZID=America/New_York:20240723T193000
DTSTAMP:20260425T095449
CREATED:20240617T234343Z
LAST-MODIFIED:20240724T152428Z
UID:10000551-1721761200-1721763000@ocskiclub.org
SUMMARY:Bowling with Friends July 23
DESCRIPTION:Bowling night – Friends with Friends Event \n\nTues July 23  starts at 7:00 pm. Please be 10 minutes early \nSpare Time at 570 Columbia Turnpike in East Greenbush.\n$15/person.   Pay at bowling alley. Please bring CASH\nUnlimited bowling\, unlimited cheese pizza slices and shoe rental included.\n(No outside food or drink permitted)\nI do not have to commit to the number of people for this deal\, however it would be nice to know who is coming and we can make teams. \nIf everyone enjoys it\, we could do it once a month. \nContact Cathy Marvin at bowling@ocskiclub.org
URL:https://ocskiclub.org/event/bowling-with-friends-july-23/
LOCATION:New York
CATEGORIES:Past Events
ATTACH;FMTTYPE=image/jpeg:https://ocskiclub.org/wp-content/uploads/2019/04/bowling-658386_1920.jpg
END:VEVENT
BEGIN:VEVENT
DTSTART;TZID=America/New_York:20240723T180000
DTEND;TZID=America/New_York:20240723T210000
DTSTAMP:20260425T095449
CREATED:20240724T152357Z
LAST-MODIFIED:20240724T152358Z
UID:10000495-1721757600-1721768400@ocskiclub.org
SUMMARY:Tuesday Volleyball League Night
DESCRIPTION:Here is the OC website page for the Summer League \n  \nVolleyball summer-league
URL:https://ocskiclub.org/event/tuesday-volleyball-league-night-11/
LOCATION:Polish Community Center\, 225 Washington Ave Ext\, Albany\, New York\, 12205
CATEGORIES:Past Events
ATTACH;FMTTYPE=image/jpeg:https://ocskiclub.org/wp-content/uploads/2023/09/vball-2-e1712585551281.jpg
END:VEVENT
BEGIN:VEVENT
DTSTART;TZID=America/New_York:20240722T180000
DTEND;TZID=America/New_York:20240722T210000
DTSTAMP:20260425T095449
CREATED:20240724T152320Z
LAST-MODIFIED:20240724T152321Z
UID:10000432-1721671200-1721682000@ocskiclub.org
SUMMARY:Monday Volleyball League Night
DESCRIPTION:Here is the OC website page for the Summer League \n  \nVolleyball summer-league
URL:https://ocskiclub.org/event/monday-volleyball-league-night-11/
LOCATION:Polish Community Center\, 225 Washington Ave Ext\, Albany\, New York\, 12205
CATEGORIES:Past Events
ATTACH;FMTTYPE=image/jpeg:https://ocskiclub.org/wp-content/uploads/2023/09/vball-2-e1712585551281.jpg
END:VEVENT
BEGIN:VEVENT
DTSTART;TZID=America/New_York:20240716T180000
DTEND;TZID=America/New_York:20240716T210000
DTSTAMP:20260425T095449
CREATED:20240719T143846Z
LAST-MODIFIED:20240719T143847Z
UID:10000494-1721152800-1721163600@ocskiclub.org
SUMMARY:Tuesday Volleyball League Night
DESCRIPTION:Here is the OC website page for the Summer League \n  \nVolleyball summer-league
URL:https://ocskiclub.org/event/tuesday-volleyball-league-night-10/
LOCATION:Polish Community Center\, 225 Washington Ave Ext\, Albany\, New York\, 12205
CATEGORIES:Past Events
ATTACH;FMTTYPE=image/jpeg:https://ocskiclub.org/wp-content/uploads/2023/09/vball-2-e1712585551281.jpg
END:VEVENT
BEGIN:VEVENT
DTSTART;TZID=America/New_York:20240715T180000
DTEND;TZID=America/New_York:20240715T210000
DTSTAMP:20260425T095449
CREATED:20240719T143816Z
LAST-MODIFIED:20240719T143817Z
UID:10000431-1721066400-1721077200@ocskiclub.org
SUMMARY:Monday Volleyball League Night
DESCRIPTION:Here is the OC website page for the Summer League \n  \nVolleyball summer-league
URL:https://ocskiclub.org/event/monday-volleyball-league-night-10/
LOCATION:Polish Community Center\, 225 Washington Ave Ext\, Albany\, New York\, 12205
CATEGORIES:Past Events
ATTACH;FMTTYPE=image/jpeg:https://ocskiclub.org/wp-content/uploads/2023/09/vball-2-e1712585551281.jpg
END:VEVENT
BEGIN:VEVENT
DTSTART;VALUE=DATE:20240711
DTEND;VALUE=DATE:20240712
DTSTAMP:20260425T095449
CREATED:20240317T182851Z
LAST-MODIFIED:20240705T022758Z
UID:10000272-1720656000-1720742399@ocskiclub.org
SUMMARY:Epic & Ikon Discounted Pass Pricing
DESCRIPTION:SEASON PASS PROGRAM FOR OC MEMBERS ONLY! \n🎿 Hello everyone! Are you looking for information on the OC season ski pass program that we participated in last year? Look no further! Just reach out to the VP for Skiing below and she will provide you with all the details you need\, along with a link to make your purchase. Let’s hit the slopes together this year! 🏂 \nJust reach out to VP for Skiing\, Lynda Heaney\, at skiing@ocskiclub.org   and she will answer any questions you may have.
URL:https://ocskiclub.org/event/epic-ikon-discounted-pass-pricing/
LOCATION:New York
CATEGORIES:Upcoming Events
ATTACH;FMTTYPE=image/jpeg:https://ocskiclub.org/wp-content/uploads/2024/03/cash.jpg
END:VEVENT
BEGIN:VEVENT
DTSTART;TZID=America/New_York:20240710T160000
DTEND;TZID=America/New_York:20240710T190000
DTSTAMP:20260425T095449
CREATED:20240508T163209Z
LAST-MODIFIED:20240711T140407Z
UID:10000416-1720627200-1720638000@ocskiclub.org
SUMMARY:Happy Hour Wednesday July 10
DESCRIPTION:Next Happy Hour: Wednesday July 10th \n4:00 to -7:00 pm at Korner Bar and Grille \n1770  Central Ave\, Colonie \nVillage Square Plaza\, Strip mall just before Kohl’s. It is really hidden in the corner next to Subway \nFood/drink specials until 6:00 \nBig prize raffle you don’t want to miss
URL:https://ocskiclub.org/event/happy-hour-wednesday-july-10/
LOCATION:New York
CATEGORIES:Past Events
ATTACH;FMTTYPE=image/jpeg:https://ocskiclub.org/wp-content/uploads/2023/12/happy_hour_logo.jpg
END:VEVENT
BEGIN:VEVENT
DTSTART;TZID=UTC:20240709T183000
DTEND;TZID=UTC:20240709T210000
DTSTAMP:20260425T095449
CREATED:20240503T015047Z
LAST-MODIFIED:20240711T140341Z
UID:10000404-1720549800-1720558800@ocskiclub.org
SUMMARY:Regular Meeting at the PCC July 9th
DESCRIPTION:OC Ski Club – OC Regular Summer meeting schedule is the first Thursdays of the month \nMeeting start at 6:30 with a typical ending time of 9:00 \nCommittee and the bar open at 6:30. News & announcements typically around 7:30 \n  \nUnless otherwise noted on the OC upcoming events calendar \nAny questions\, reach out to admin@ocskiclub.org
URL:https://ocskiclub.org/event/regular-meeting-at-the-pcc-5/
LOCATION:Polish Community Center\, 225 Washington Ave Ext\, Albany\, New York\, 12205
CATEGORIES:Past Events
ATTACH;FMTTYPE=image/jpeg:https://ocskiclub.org/wp-content/uploads/2023/11/Meeting-Reminder-2.jpeg
END:VEVENT
BEGIN:VEVENT
DTSTART;TZID=UTC:20240709T183000
DTEND;TZID=UTC:20240709T193000
DTSTAMP:20260425T095449
CREATED:20240503T014725Z
LAST-MODIFIED:20240711T140313Z
UID:10000345-1720549800-1720553400@ocskiclub.org
SUMMARY:Board Meeting - Monthly
DESCRIPTION:Monthly Board Meetings – The first Thursday of each calendar month. Unless otherwise noted on the OC upcoming events calendar \nMeeting at the Polish Community Center in Albany. Meeting start at 6:30 typical taking one hour \nAny questions\, reach out to President@ocskiclub.org \nMembers of the OC Ski Club are welcome to come to the Board meeting
URL:https://ocskiclub.org/event/board-meeting-monthly-5/
LOCATION:Polish Community Center\, 225 Washington Ave Ext\, Albany\, New York\, 12205
CATEGORIES:Past Events
ATTACH;FMTTYPE=image/jpeg:https://ocskiclub.org/wp-content/uploads/2023/11/board-meeting-e1702430365886.jpg
END:VEVENT
BEGIN:VEVENT
DTSTART;TZID=America/New_York:20240709T180000
DTEND;TZID=America/New_York:20240709T210000
DTSTAMP:20260425T095449
CREATED:20240711T140121Z
LAST-MODIFIED:20240711T140122Z
UID:10000493-1720548000-1720558800@ocskiclub.org
SUMMARY:Tuesday Volleyball League Night
DESCRIPTION:Here is the OC website page for the Summer League \n  \nVolleyball summer-league
URL:https://ocskiclub.org/event/tuesday-volleyball-league-night-9/
LOCATION:Polish Community Center\, 225 Washington Ave Ext\, Albany\, New York\, 12205
CATEGORIES:Past Events
ATTACH;FMTTYPE=image/jpeg:https://ocskiclub.org/wp-content/uploads/2023/09/vball-2-e1712585551281.jpg
END:VEVENT
END:VCALENDAR