BEGIN:VCALENDAR
VERSION:2.0
PRODID:-//OC - ECPv6.15.11//NONSGML v1.0//EN
CALSCALE:GREGORIAN
METHOD:PUBLISH
X-ORIGINAL-URL:https://ocskiclub.org
X-WR-CALDESC:Events for OC
REFRESH-INTERVAL;VALUE=DURATION:PT1H
X-Robots-Tag:noindex
X-PUBLISHED-TTL:PT1H
BEGIN:VTIMEZONE
TZID:UTC
BEGIN:STANDARD
TZOFFSETFROM:+0000
TZOFFSETTO:+0000
TZNAME:UTC
DTSTART:20250101T000000
END:STANDARD
END:VTIMEZONE
BEGIN:VTIMEZONE
TZID:America/New_York
BEGIN:DAYLIGHT
TZOFFSETFROM:-0500
TZOFFSETTO:-0400
TZNAME:EDT
DTSTART:20250309T070000
END:DAYLIGHT
BEGIN:STANDARD
TZOFFSETFROM:-0400
TZOFFSETTO:-0500
TZNAME:EST
DTSTART:20251102T060000
END:STANDARD
BEGIN:DAYLIGHT
TZOFFSETFROM:-0500
TZOFFSETTO:-0400
TZNAME:EDT
DTSTART:20260308T070000
END:DAYLIGHT
BEGIN:STANDARD
TZOFFSETFROM:-0400
TZOFFSETTO:-0500
TZNAME:EST
DTSTART:20261101T060000
END:STANDARD
BEGIN:DAYLIGHT
TZOFFSETFROM:-0500
TZOFFSETTO:-0400
TZNAME:EDT
DTSTART:20270314T070000
END:DAYLIGHT
BEGIN:STANDARD
TZOFFSETFROM:-0400
TZOFFSETTO:-0500
TZNAME:EST
DTSTART:20271107T060000
END:STANDARD
END:VTIMEZONE
BEGIN:VEVENT
DTSTART;TZID=UTC:20260702T183000
DTEND;TZID=UTC:20260702T193000
DTSTAMP:20260423T185539
CREATED:20250925T184929Z
LAST-MODIFIED:20250925T184929Z
UID:10001426-1783017000-1783020600@ocskiclub.org
SUMMARY:Board Meeting - Monthly
DESCRIPTION:Monthly Board Meetings – The first Thursday of each calendar month. Unless otherwise noted on the OC upcoming events calendar \nMeeting at the Polish Community Center in Albany. Meeting start at 6:30 typical taking one hour \nAny questions\, reach out to President@ocskiclub.org \nMembers of the OC Ski Club are welcome to come to the Board meeting
URL:https://ocskiclub.org/event/board-meeting-monthly-9-2-2/2026-07-02/
LOCATION:Polish Community Center\, 225 Washington Ave Ext\, Albany\, New York\, 12205
CATEGORIES:Upcoming Events
ATTACH;FMTTYPE=image/jpeg:https://ocskiclub.org/wp-content/uploads/2023/11/board-meeting-e1702430365886.jpg
END:VEVENT
BEGIN:VEVENT
DTSTART;TZID=America/New_York:20260702T183000
DTEND;TZID=America/New_York:20260702T203000
DTSTAMP:20260423T185539
CREATED:20260420T184639Z
LAST-MODIFIED:20260420T184756Z
UID:10001597-1783017000-1783024200@ocskiclub.org
SUMMARY:OC Monthly Summer Meetings at the PCC
DESCRIPTION:OC Ski Club – Summer Schedule of Monthly meetings  \nThe OC Ski Club meetings are held at the Polish Community Center in Albany on Washington Ave Ext. The event typically start at 6:30. The bar is also opens at 6:30. OC business news & announcements are typically done around 7:30 to 8:00 depending on the what the President’s schedule is that evening. But you coming for the FUN! \nAlso committee persons will be at the events so you can check out Ski Trips\, renew your membership plus any other item you need from your Ski Club.  \nPlease Note: NO outside beverages are allowed to be brought into the PCC (including bottled water). Beverages are available at the bar. \nAny questions\, reach out to admin@ocskiclub.org
URL:https://ocskiclub.org/event/oc-monthly-summer-meeting-at-the-pcc/2026-07-02/
LOCATION:Polish Community Center\, 225 Washington Ave Ext\, Albany\, New York\, 12205
CATEGORIES:Upcoming Events
ATTACH;FMTTYPE=image/jpeg:https://ocskiclub.org/wp-content/uploads/2023/11/Meeting-Reminder-2.jpeg
END:VEVENT
END:VCALENDAR