BEGIN:VCALENDAR
VERSION:2.0
PRODID:-//OC - ECPv6.15.11//NONSGML v1.0//EN
CALSCALE:GREGORIAN
METHOD:PUBLISH
X-ORIGINAL-URL:https://ocskiclub.org
X-WR-CALDESC:Events for OC
REFRESH-INTERVAL;VALUE=DURATION:PT1H
X-Robots-Tag:noindex
X-PUBLISHED-TTL:PT1H
BEGIN:VTIMEZONE
TZID:UTC
BEGIN:STANDARD
TZOFFSETFROM:+0000
TZOFFSETTO:+0000
TZNAME:UTC
DTSTART:20250101T000000
END:STANDARD
END:VTIMEZONE
BEGIN:VTIMEZONE
TZID:America/New_York
BEGIN:DAYLIGHT
TZOFFSETFROM:-0500
TZOFFSETTO:-0400
TZNAME:EDT
DTSTART:20250309T070000
END:DAYLIGHT
BEGIN:STANDARD
TZOFFSETFROM:-0400
TZOFFSETTO:-0500
TZNAME:EST
DTSTART:20251102T060000
END:STANDARD
BEGIN:DAYLIGHT
TZOFFSETFROM:-0500
TZOFFSETTO:-0400
TZNAME:EDT
DTSTART:20260308T070000
END:DAYLIGHT
BEGIN:STANDARD
TZOFFSETFROM:-0400
TZOFFSETTO:-0500
TZNAME:EST
DTSTART:20261101T060000
END:STANDARD
BEGIN:DAYLIGHT
TZOFFSETFROM:-0500
TZOFFSETTO:-0400
TZNAME:EDT
DTSTART:20270314T070000
END:DAYLIGHT
BEGIN:STANDARD
TZOFFSETFROM:-0400
TZOFFSETTO:-0500
TZNAME:EST
DTSTART:20271107T060000
END:STANDARD
END:VTIMEZONE
BEGIN:VEVENT
DTSTART;VALUE=DATE:20260410
DTEND;VALUE=DATE:20260413
DTSTAMP:20260423T155022
CREATED:20250824T235531Z
LAST-MODIFIED:20250824T235650Z
UID:10001367-1775779200-1776038399@ocskiclub.org
SUMMARY:Jay Peak Vermont ski trip April 10 - 12\, 2025
DESCRIPTION:Great for the all families with skiing and a water park \nIt is a drive-up. \nDetails will be posted once completed \nClick here for trip details.
URL:https://ocskiclub.org/event/jay-peak-vermont-ski-trip-april-10-12-2025/
LOCATION:New York
CATEGORIES:Ski Trips,Upcoming Events
ATTACH;FMTTYPE=image/jpeg:https://ocskiclub.org/wp-content/uploads/2025/05/smuggs-logo-large.jpg
END:VEVENT
BEGIN:VEVENT
DTSTART;TZID=America/New_York:20260412T080000
DTEND;TZID=America/New_York:20260412T170000
DTSTAMP:20260423T155022
CREATED:20251014T004327Z
LAST-MODIFIED:20251209T203709Z
UID:10001467-1775980800-1776013200@ocskiclub.org
SUMMARY:Stratton Day Bus 2025-2026 season
DESCRIPTION:Day Bus Trip to Stratton\, VT and Cros County at either Stratton or Viking Nordic \nPick up starts in Albany\, second pick up Walmart on Route 7 in Troy/Brunswick \nStratton is a Ikon pass \nTo get more details about this bus click this  OC Bus LINK \nPlease note that the Bus Committee only takes sign ups for the next 6 buses and this bus date might not be shown but it is scheduled. \nAny questions you can email the Bus Committee at ocbus@ocskiclub.org \nThe 2025-2026 Bus Schedule CLICK HERE
URL:https://ocskiclub.org/event/stratton-day-bus-2025-2026-season/2026-04-12/
LOCATION:New York
CATEGORIES:Alpine Bus,Upcoming Events
ATTACH;FMTTYPE=image/jpeg:https://ocskiclub.org/wp-content/uploads/2024/10/Stratton.jpg
END:VEVENT
END:VCALENDAR