BEGIN:VCALENDAR
VERSION:2.0
PRODID:-//OC - ECPv6.15.11//NONSGML v1.0//EN
CALSCALE:GREGORIAN
METHOD:PUBLISH
X-ORIGINAL-URL:https://ocskiclub.org
X-WR-CALDESC:Events for OC
REFRESH-INTERVAL;VALUE=DURATION:PT1H
X-Robots-Tag:noindex
X-PUBLISHED-TTL:PT1H
BEGIN:VTIMEZONE
TZID:UTC
BEGIN:STANDARD
TZOFFSETFROM:+0000
TZOFFSETTO:+0000
TZNAME:UTC
DTSTART:20250101T000000
END:STANDARD
END:VTIMEZONE
BEGIN:VTIMEZONE
TZID:America/New_York
BEGIN:DAYLIGHT
TZOFFSETFROM:-0500
TZOFFSETTO:-0400
TZNAME:EDT
DTSTART:20250309T070000
END:DAYLIGHT
BEGIN:STANDARD
TZOFFSETFROM:-0400
TZOFFSETTO:-0500
TZNAME:EST
DTSTART:20251102T060000
END:STANDARD
BEGIN:DAYLIGHT
TZOFFSETFROM:-0500
TZOFFSETTO:-0400
TZNAME:EDT
DTSTART:20260308T070000
END:DAYLIGHT
BEGIN:STANDARD
TZOFFSETFROM:-0400
TZOFFSETTO:-0500
TZNAME:EST
DTSTART:20261101T060000
END:STANDARD
BEGIN:DAYLIGHT
TZOFFSETFROM:-0500
TZOFFSETTO:-0400
TZNAME:EDT
DTSTART:20270314T070000
END:DAYLIGHT
BEGIN:STANDARD
TZOFFSETFROM:-0400
TZOFFSETTO:-0500
TZNAME:EST
DTSTART:20271107T060000
END:STANDARD
END:VTIMEZONE
BEGIN:VEVENT
DTSTART;VALUE=DATE:20260324
DTEND;VALUE=DATE:20260328
DTSTAMP:20260423T191302
CREATED:20250825T161315Z
LAST-MODIFIED:20260113T183022Z
UID:10001368-1774310400-1774655999@ocskiclub.org
SUMMARY:New Hampshire Ski trip March 24 -27\, 2025
DESCRIPTION:Stay at the Indian Head resort in Lincoln\, NH \n4 plus ski areas within 1/2 drive\, Loon Ski resort 10 minutes away. \nIt is a drive-up. \nDetails will be posted once completed \nClick here for trip details.
URL:https://ocskiclub.org/event/new-hampshire-ski-trip-march-3-6-2025/
LOCATION:New York
CATEGORIES:Ski Trips,Upcoming Events
ATTACH;FMTTYPE=image/jpeg:https://ocskiclub.org/wp-content/uploads/2025/05/smuggs-logo-large.jpg
END:VEVENT
BEGIN:VEVENT
DTSTART;VALUE=DATE:20260324
DTEND;VALUE=DATE:20260331
DTSTAMP:20260423T191302
CREATED:20250520T000312Z
LAST-MODIFIED:20250520T000526Z
UID:10001319-1774310400-1774915199@ocskiclub.org
SUMMARY:Palisades Ski Trip March 24-30 2026
DESCRIPTION:This is a week long trip with airfare \nMore detail with be posted once they are finalized \nClick here for trip details.
URL:https://ocskiclub.org/event/palisades-ski-trip-march-24-30-2026/
LOCATION:New York
CATEGORIES:Ski Trips,Upcoming Events
ATTACH;FMTTYPE=image/jpeg:https://ocskiclub.org/wp-content/uploads/2025/05/Palisades-CA.jpeg
END:VEVENT
BEGIN:VEVENT
DTSTART;TZID=America/New_York:20260326T183000
DTEND;TZID=America/New_York:20260326T210000
DTSTAMP:20260423T191302
CREATED:20260306T030253Z
LAST-MODIFIED:20260306T031733Z
UID:10001514-1774549800-1774558800@ocskiclub.org
SUMMARY:Gear Swap Event at the PCC March 26\, 2026
DESCRIPTION:OC Ski Club – Winter Schedule of weekly “EVENTS”  \nGEAR SWAP NIGHT – Bring your ski stuff including clothing you don’t need. Only good items from current OC members will be accepted. Please only Alpine & Nordic ski gear \nDetails click Here  \nThe OC Ski Club event/meetings are held at the Polish Community Center in Albany on Washington Ave Ext. The event typically start at 6:30. The bar is also opens at 6:30. OC business news & announcements are typically done around 7:30 to 8:00 depending on the what the President’s schedule is that evening. But you coming for the FUN! \nAlso committee persons will be at the events so you can check out Ski Trips\, Bus days\, renew your membership plus any other item you need from your Ski Club.  \nPlease Note: NO outside beverages are allowed to be brought into the PCC (including bottled water). Beverages are available at the bar. \nAny questions\, reach out to admin@ocskiclub.org
URL:https://ocskiclub.org/event/gear-swap-event-at-the-pcc-march-26-2026/
LOCATION:Polish Community Center\, 225 Washington Ave Ext\, Albany\, New York\, 12205
CATEGORIES:Upcoming Events
ATTACH;FMTTYPE=image/jpeg:https://ocskiclub.org/wp-content/uploads/2025/10/Depositphotos_8740689_XL.jpg
END:VEVENT
END:VCALENDAR