BEGIN:VCALENDAR
VERSION:2.0
PRODID:-//OC - ECPv6.15.11//NONSGML v1.0//EN
CALSCALE:GREGORIAN
METHOD:PUBLISH
X-ORIGINAL-URL:https://ocskiclub.org
X-WR-CALDESC:Events for OC
REFRESH-INTERVAL;VALUE=DURATION:PT1H
X-Robots-Tag:noindex
X-PUBLISHED-TTL:PT1H
BEGIN:VTIMEZONE
TZID:America/New_York
BEGIN:DAYLIGHT
TZOFFSETFROM:-0500
TZOFFSETTO:-0400
TZNAME:EDT
DTSTART:20250309T070000
END:DAYLIGHT
BEGIN:STANDARD
TZOFFSETFROM:-0400
TZOFFSETTO:-0500
TZNAME:EST
DTSTART:20251102T060000
END:STANDARD
BEGIN:DAYLIGHT
TZOFFSETFROM:-0500
TZOFFSETTO:-0400
TZNAME:EDT
DTSTART:20260308T070000
END:DAYLIGHT
BEGIN:STANDARD
TZOFFSETFROM:-0400
TZOFFSETTO:-0500
TZNAME:EST
DTSTART:20261101T060000
END:STANDARD
BEGIN:DAYLIGHT
TZOFFSETFROM:-0500
TZOFFSETTO:-0400
TZNAME:EDT
DTSTART:20270314T070000
END:DAYLIGHT
BEGIN:STANDARD
TZOFFSETFROM:-0400
TZOFFSETTO:-0500
TZNAME:EST
DTSTART:20271107T060000
END:STANDARD
END:VTIMEZONE
BEGIN:VEVENT
DTSTART;TZID=America/New_York:20260315T080000
DTEND;TZID=America/New_York:20260315T170000
DTSTAMP:20260423T191300
CREATED:20251014T004856Z
LAST-MODIFIED:20251120T194608Z
UID:10001474-1773561600-1773594000@ocskiclub.org
SUMMARY:Gore Day Bus 2025-2026 season
DESCRIPTION:Day Bus Trip to Gore\, NY and Cros County at Garnet Hill \nPick up starts in Albany\, second pick up exit 12 Malta\, third pick up exit 20 Warren County building park and ride \nGore is a Ski 3 pass \nTo get more details about this bus click this  OC Bus LINK \nPlease note that the Bus Committee only takes sign ups for the next 6 buses and this bus date might not be shown but it is scheduled. \nAny questions you can email the Bus Committee at ocbus@ocskiclub.org \nThe 2025-2026 Bus Schedule CLICK HERE
URL:https://ocskiclub.org/event/day-bus-trip-to-gore-ny-and-cros-county-at-garnet-hill/2026-03-15/
LOCATION:New York
CATEGORIES:Alpine Bus,Upcoming Events
ATTACH;FMTTYPE=image/png:https://ocskiclub.org/wp-content/uploads/2024/10/gore.png
END:VEVENT
END:VCALENDAR