BEGIN:VCALENDAR
VERSION:2.0
PRODID:-//OC - ECPv6.15.11//NONSGML v1.0//EN
CALSCALE:GREGORIAN
METHOD:PUBLISH
X-ORIGINAL-URL:https://ocskiclub.org
X-WR-CALDESC:Events for OC
REFRESH-INTERVAL;VALUE=DURATION:PT1H
X-Robots-Tag:noindex
X-PUBLISHED-TTL:PT1H
BEGIN:VTIMEZONE
TZID:America/New_York
BEGIN:DAYLIGHT
TZOFFSETFROM:-0500
TZOFFSETTO:-0400
TZNAME:EDT
DTSTART:20250309T070000
END:DAYLIGHT
BEGIN:STANDARD
TZOFFSETFROM:-0400
TZOFFSETTO:-0500
TZNAME:EST
DTSTART:20251102T060000
END:STANDARD
BEGIN:DAYLIGHT
TZOFFSETFROM:-0500
TZOFFSETTO:-0400
TZNAME:EDT
DTSTART:20260308T070000
END:DAYLIGHT
BEGIN:STANDARD
TZOFFSETFROM:-0400
TZOFFSETTO:-0500
TZNAME:EST
DTSTART:20261101T060000
END:STANDARD
BEGIN:DAYLIGHT
TZOFFSETFROM:-0500
TZOFFSETTO:-0400
TZNAME:EDT
DTSTART:20270314T070000
END:DAYLIGHT
BEGIN:STANDARD
TZOFFSETFROM:-0400
TZOFFSETTO:-0500
TZNAME:EST
DTSTART:20271107T060000
END:STANDARD
END:VTIMEZONE
BEGIN:VEVENT
DTSTART;TZID=America/New_York:20260314T070000
DTEND;TZID=America/New_York:20260314T160000
DTSTAMP:20260423T173407
CREATED:20251029T143249Z
LAST-MODIFIED:20251029T143626Z
UID:10001500-1773471600-1773504000@ocskiclub.org
SUMMARY:Nordic (XC) Day Bus Location TBD
DESCRIPTION:Nordic day bus -“Where the snow is”  \nWe are scheduling these Saturdays (Jan 10\, Feb 7 and March 14) for Cross County ONLY day bus to a location that has the most snow and terrain. \nTo get more details go to the bus page CLICK HERE \nPlease be aware that details for these buses may not get posted until 10 days before the actual date. \nAlso on the schedule is day bus to Great Camp Sagamore on Jan 31 and Feb 28th
URL:https://ocskiclub.org/event/nordic-xc-day-bus-location-tbd/2026-03-14/
LOCATION:New York
CATEGORIES:Cross Counrty,Skiing,Upcoming Events
ATTACH;FMTTYPE=image/png:https://ocskiclub.org/wp-content/uploads/2023/12/I-love-Cross-Country-Skiing-Kids-Shirts-e1702432110428.png
END:VEVENT
END:VCALENDAR