BEGIN:VCALENDAR
VERSION:2.0
PRODID:-//OC - ECPv6.15.11//NONSGML v1.0//EN
CALSCALE:GREGORIAN
METHOD:PUBLISH
X-WR-CALNAME:OC
X-ORIGINAL-URL:https://ocskiclub.org
X-WR-CALDESC:Events for OC
REFRESH-INTERVAL;VALUE=DURATION:PT1H
X-Robots-Tag:noindex
X-PUBLISHED-TTL:PT1H
BEGIN:VTIMEZONE
TZID:America/New_York
BEGIN:DAYLIGHT
TZOFFSETFROM:-0500
TZOFFSETTO:-0400
TZNAME:EDT
DTSTART:20250309T070000
END:DAYLIGHT
BEGIN:STANDARD
TZOFFSETFROM:-0400
TZOFFSETTO:-0500
TZNAME:EST
DTSTART:20251102T060000
END:STANDARD
BEGIN:DAYLIGHT
TZOFFSETFROM:-0500
TZOFFSETTO:-0400
TZNAME:EDT
DTSTART:20260308T070000
END:DAYLIGHT
BEGIN:STANDARD
TZOFFSETFROM:-0400
TZOFFSETTO:-0500
TZNAME:EST
DTSTART:20261101T060000
END:STANDARD
BEGIN:DAYLIGHT
TZOFFSETFROM:-0500
TZOFFSETTO:-0400
TZNAME:EDT
DTSTART:20270314T070000
END:DAYLIGHT
BEGIN:STANDARD
TZOFFSETFROM:-0400
TZOFFSETTO:-0500
TZNAME:EST
DTSTART:20271107T060000
END:STANDARD
END:VTIMEZONE
BEGIN:VEVENT
DTSTART;VALUE=DATE:20260308
DTEND;VALUE=DATE:20260314
DTSTAMP:20260423T154846
CREATED:20250925T195002Z
LAST-MODIFIED:20250925T195002Z
UID:10001440-1772928000-1773446399@ocskiclub.org
SUMMARY:Tremblant Ski Trip March 8 to 13\, 2026
DESCRIPTION:Get all the details and to sign up on the link below \nTremblant Ski Trip Link
URL:https://ocskiclub.org/event/tremblant-ski-trip-march-8-to-13-2026/
LOCATION:New York
ATTACH;FMTTYPE=image/jpeg:https://ocskiclub.org/wp-content/uploads/2024/07/Tremblant.jpeg
END:VEVENT
BEGIN:VEVENT
DTSTART;TZID=America/New_York:20260308T080000
DTEND;TZID=America/New_York:20260308T170000
DTSTAMP:20260423T154846
CREATED:20251014T004327Z
LAST-MODIFIED:20251209T203709Z
UID:10001466-1772956800-1772989200@ocskiclub.org
SUMMARY:Stratton Day Bus 2025-2026 season
DESCRIPTION:Day Bus Trip to Stratton\, VT and Cros County at either Stratton or Viking Nordic \nPick up starts in Albany\, second pick up Walmart on Route 7 in Troy/Brunswick \nStratton is a Ikon pass \nTo get more details about this bus click this  OC Bus LINK \nPlease note that the Bus Committee only takes sign ups for the next 6 buses and this bus date might not be shown but it is scheduled. \nAny questions you can email the Bus Committee at ocbus@ocskiclub.org \nThe 2025-2026 Bus Schedule CLICK HERE
URL:https://ocskiclub.org/event/stratton-day-bus-2025-2026-season/2026-03-08/
LOCATION:New York
CATEGORIES:Alpine Bus,Upcoming Events
ATTACH;FMTTYPE=image/jpeg:https://ocskiclub.org/wp-content/uploads/2024/10/Stratton.jpg
END:VEVENT
END:VCALENDAR