BEGIN:VCALENDAR
VERSION:2.0
PRODID:-//OC - ECPv6.15.11//NONSGML v1.0//EN
CALSCALE:GREGORIAN
METHOD:PUBLISH
X-WR-CALNAME:OC
X-ORIGINAL-URL:https://ocskiclub.org
X-WR-CALDESC:Events for OC
REFRESH-INTERVAL;VALUE=DURATION:PT1H
X-Robots-Tag:noindex
X-PUBLISHED-TTL:PT1H
BEGIN:VTIMEZONE
TZID:America/New_York
BEGIN:DAYLIGHT
TZOFFSETFROM:-0500
TZOFFSETTO:-0400
TZNAME:EDT
DTSTART:20250309T070000
END:DAYLIGHT
BEGIN:STANDARD
TZOFFSETFROM:-0400
TZOFFSETTO:-0500
TZNAME:EST
DTSTART:20251102T060000
END:STANDARD
BEGIN:DAYLIGHT
TZOFFSETFROM:-0500
TZOFFSETTO:-0400
TZNAME:EDT
DTSTART:20260308T070000
END:DAYLIGHT
BEGIN:STANDARD
TZOFFSETFROM:-0400
TZOFFSETTO:-0500
TZNAME:EST
DTSTART:20261101T060000
END:STANDARD
BEGIN:DAYLIGHT
TZOFFSETFROM:-0500
TZOFFSETTO:-0400
TZNAME:EDT
DTSTART:20270314T070000
END:DAYLIGHT
BEGIN:STANDARD
TZOFFSETFROM:-0400
TZOFFSETTO:-0500
TZNAME:EST
DTSTART:20271107T060000
END:STANDARD
END:VTIMEZONE
BEGIN:VEVENT
DTSTART;VALUE=DATE:20260220
DTEND;VALUE=DATE:20260303
DTSTAMP:20260423T185505
CREATED:20250824T235253Z
LAST-MODIFIED:20250824T235407Z
UID:10001366-1771545600-1772495999@ocskiclub.org
SUMMARY:Kitzbuhel\, Austria ski trip with side trip to Salzburg Feb 20 to March 2 2026
DESCRIPTION:This is a week long trip with airfare \nClick here for trip details.
URL:https://ocskiclub.org/event/kitzbuhel-austria-ski-trip-with-side-trip-to-salzburg-feb-20-to-march-2-2026/
LOCATION:New York
CATEGORIES:Ski Trips,Upcoming Events
ATTACH;FMTTYPE=image/jpeg:https://ocskiclub.org/wp-content/uploads/2025/05/Park-City.jpg
END:VEVENT
BEGIN:VEVENT
DTSTART;VALUE=DATE:20260221
DTEND;VALUE=DATE:20260301
DTSTAMP:20260423T185505
CREATED:20250502T154820Z
LAST-MODIFIED:20250502T160508Z
UID:10001317-1771632000-1772323199@ocskiclub.org
SUMMARY:Park City & Deer Valley Ski Trip Feb 21-28 2026
DESCRIPTION:This is a week long trip with airfare \nMore detail with be posted once there are finalized \nClick here for trip details.
URL:https://ocskiclub.org/event/park-city-deer-valley-ski-trip-feb-21-28-2026/
LOCATION:New York
CATEGORIES:Ski Trips,Upcoming Events
ATTACH;FMTTYPE=image/jpeg:https://ocskiclub.org/wp-content/uploads/2025/05/Park-City.jpg
END:VEVENT
BEGIN:VEVENT
DTSTART;TZID=America/New_York:20260226T183000
DTEND;TZID=America/New_York:20260226T210000
DTSTAMP:20260423T185505
CREATED:20250925T193245Z
LAST-MODIFIED:20260130T161331Z
UID:10001306-1772130600-1772139600@ocskiclub.org
SUMMARY:T-Shirt Swap at the PCC Feb 26\, 2026
DESCRIPTION:OC Ski Club – Winter Schedule of weekly “EVENTS”  \nBring your lightly used T-shirt for this “Swap” It will be a fund raiser for the OC Ski Club. Donate your T-shirt for someone to buy for $5. Find one you like too!  \nThe OC Ski Club event/meetings are held at the Polish Community Center in Albany on Washington Ave Ext. The event typically start at 6:30. The bar is also opens at 6:30. OC business news & announcements are typically done around 7:30 to 8:00 depending on the what the President’s schedule is that evening. But you coming for the FUN! \nAlso committee persons will be at the events so you can check out Ski Trips\, Bus days\, renew your membership plus any other item you need from your Ski Club.  \nPlease Note: NO outside beverages are allowed to be brought into the PCC (including bottled water). Beverages are available at the bar. \nAny questions\, reach out to admin@ocskiclub.org
URL:https://ocskiclub.org/event/t-shirt-swap-at-the-pcc/
LOCATION:Polish Community Center\, 225 Washington Ave Ext\, Albany\, New York\, 12205
CATEGORIES:Upcoming Events
ATTACH;FMTTYPE=image/jpeg:https://ocskiclub.org/wp-content/uploads/2023/11/Meeting-Reminder-2.jpeg
END:VEVENT
END:VCALENDAR