BEGIN:VCALENDAR
VERSION:2.0
PRODID:-//OC - ECPv6.15.11//NONSGML v1.0//EN
CALSCALE:GREGORIAN
METHOD:PUBLISH
X-ORIGINAL-URL:https://ocskiclub.org
X-WR-CALDESC:Events for OC
REFRESH-INTERVAL;VALUE=DURATION:PT1H
X-Robots-Tag:noindex
X-PUBLISHED-TTL:PT1H
BEGIN:VTIMEZONE
TZID:America/New_York
BEGIN:DAYLIGHT
TZOFFSETFROM:-0500
TZOFFSETTO:-0400
TZNAME:EDT
DTSTART:20250309T070000
END:DAYLIGHT
BEGIN:STANDARD
TZOFFSETFROM:-0400
TZOFFSETTO:-0500
TZNAME:EST
DTSTART:20251102T060000
END:STANDARD
BEGIN:DAYLIGHT
TZOFFSETFROM:-0500
TZOFFSETTO:-0400
TZNAME:EDT
DTSTART:20260308T070000
END:DAYLIGHT
BEGIN:STANDARD
TZOFFSETFROM:-0400
TZOFFSETTO:-0500
TZNAME:EST
DTSTART:20261101T060000
END:STANDARD
BEGIN:DAYLIGHT
TZOFFSETFROM:-0500
TZOFFSETTO:-0400
TZNAME:EDT
DTSTART:20270314T070000
END:DAYLIGHT
BEGIN:STANDARD
TZOFFSETFROM:-0400
TZOFFSETTO:-0500
TZNAME:EST
DTSTART:20271107T060000
END:STANDARD
END:VTIMEZONE
BEGIN:VEVENT
DTSTART;VALUE=DATE:20260209
DTEND;VALUE=DATE:20260214
DTSTAMP:20260423T171751
CREATED:20250502T155029Z
LAST-MODIFIED:20250502T160048Z
UID:10001318-1770595200-1771027199@ocskiclub.org
SUMMARY:Sunday River ski trip Feb 9-13 2026
DESCRIPTION:This is a week long ski trip \nIt is a drive-up trip. With a possible bus option \nClick here for trip details.
URL:https://ocskiclub.org/event/sunday-river-ski-trip-feb-9-13-2026/
LOCATION:New York
CATEGORIES:Ski Trips,Upcoming Events
ATTACH;FMTTYPE=image/jpeg:https://ocskiclub.org/wp-content/uploads/2023/12/Sunday-River-logo.jpg
END:VEVENT
BEGIN:VEVENT
DTSTART;TZID=America/New_York:20260212T183000
DTEND;TZID=America/New_York:20260212T210000
DTSTAMP:20260423T171751
CREATED:20260130T161227Z
LAST-MODIFIED:20260207T164840Z
UID:10001308-1770921000-1770930000@ocskiclub.org
SUMMARY:Meeting Only at the PCC Feb 12\, 2026
DESCRIPTION:OC Ski Club – Winter Schedule of weekly “EVENTS”  \nThis week due to the Sunday River trip there will be no special event just a standard meeting. We anticipate the meeting will be in the bar area only. You can still come by to sign up for a day bus \nWe will be back to a normal meeting next week. \nThe OC Ski Club event/meetings are held at the Polish Community Center in Albany on Washington Ave Ext. The event typically start at 6:30. The bar is also opens at 6:30. OC business news & announcements are typically done around 7:30 to 8:00 depending on the what the President’s schedule is that evening. But you coming for the FUN! \nAlso committee persons will be at the events so you can check out Ski Trips\, Bus days\, renew your membership plus any other item you need from your Ski Club.  \nPlease Note: NO outside beverages are allowed to be brought into the PCC (including bottled water). Beverages are available at the bar. \nAny questions\, reach out to admin@ocskiclub.org
URL:https://ocskiclub.org/event/meeting-only-at-the-pcc/
LOCATION:Polish Community Center\, 225 Washington Ave Ext\, Albany\, New York\, 12205
CATEGORIES:Upcoming Events
ATTACH;FMTTYPE=image/jpeg:https://ocskiclub.org/wp-content/uploads/2023/11/Meeting-Reminder-2.jpeg
END:VEVENT
END:VCALENDAR