BEGIN:VCALENDAR
VERSION:2.0
PRODID:-//OC - ECPv6.15.11//NONSGML v1.0//EN
CALSCALE:GREGORIAN
METHOD:PUBLISH
X-ORIGINAL-URL:https://ocskiclub.org
X-WR-CALDESC:Events for OC
REFRESH-INTERVAL;VALUE=DURATION:PT1H
X-Robots-Tag:noindex
X-PUBLISHED-TTL:PT1H
BEGIN:VTIMEZONE
TZID:America/New_York
BEGIN:DAYLIGHT
TZOFFSETFROM:-0500
TZOFFSETTO:-0400
TZNAME:EDT
DTSTART:20250309T070000
END:DAYLIGHT
BEGIN:STANDARD
TZOFFSETFROM:-0400
TZOFFSETTO:-0500
TZNAME:EST
DTSTART:20251102T060000
END:STANDARD
BEGIN:DAYLIGHT
TZOFFSETFROM:-0500
TZOFFSETTO:-0400
TZNAME:EDT
DTSTART:20260308T070000
END:DAYLIGHT
BEGIN:STANDARD
TZOFFSETFROM:-0400
TZOFFSETTO:-0500
TZNAME:EST
DTSTART:20261101T060000
END:STANDARD
BEGIN:DAYLIGHT
TZOFFSETFROM:-0500
TZOFFSETTO:-0400
TZNAME:EDT
DTSTART:20270314T070000
END:DAYLIGHT
BEGIN:STANDARD
TZOFFSETFROM:-0400
TZOFFSETTO:-0500
TZNAME:EST
DTSTART:20271107T060000
END:STANDARD
END:VTIMEZONE
BEGIN:VEVENT
DTSTART;VALUE=DATE:20260124
DTEND;VALUE=DATE:20260201
DTSTAMP:20260423T234111
CREATED:20250502T154705Z
LAST-MODIFIED:20250601T014551Z
UID:10001316-1769212800-1769903999@ocskiclub.org
SUMMARY:Snowmass Ski Trip Jan 24-31 2026
DESCRIPTION:This is a week long trip with airfare \nMore detail with be posted once they are finalized \nClick here for trip details.
URL:https://ocskiclub.org/event/snowmass-ski-trip-jan-24-31-2026/
LOCATION:New York
CATEGORIES:Ski Trips,Upcoming Events
ATTACH;FMTTYPE=image/jpeg:https://ocskiclub.org/wp-content/uploads/2025/05/Snowmass.jpg
END:VEVENT
BEGIN:VEVENT
DTSTART;TZID=America/New_York:20260131T070000
DTEND;TZID=America/New_York:20260131T163000
DTSTAMP:20260423T234111
CREATED:20251014T012440Z
LAST-MODIFIED:20260110T165834Z
UID:10001496-1769842800-1769877000@ocskiclub.org
SUMMARY:Great Camp Sagamore Snow day Jan 31 2026
DESCRIPTION:Day Bus Trip to Great Camp Sagamore\, NY \nPick up starts in Albany\, second pick up Malta Exit 12 and third pickup Exit 20 Warren County building Park and Ride \n\n\n\n \n\n\n\n\n\n\n\nSleigh Rides\, Guided Cross-Country Skiing\, Guided Winter Hikes \nSledding\, Campfires\, Snow Croquet\, Board games & puzzles in the Playhouse \nTo get more details about this bus click this  OC Bus LINK \n\n\n\n\nPlease note that the Bus Committee only takes sign ups for the next 6 buses and this bus date might not be shown but it is scheduled. \nAny questions you can email the Bus Committee at ocbus@ocskiclub.org \nThe 2025-2026 Bus Schedule CLICK HERE
URL:https://ocskiclub.org/event/sagamore-snowday-day-bus/
LOCATION:New York
CATEGORIES:Alpine Bus,Cross Counrty,Upcoming Events
ATTACH;FMTTYPE=image/jpeg:https://ocskiclub.org/wp-content/uploads/2025/10/Great-camp-sagamore-A.jpg
END:VEVENT
END:VCALENDAR