BEGIN:VCALENDAR
VERSION:2.0
PRODID:-//OC - ECPv6.15.11//NONSGML v1.0//EN
CALSCALE:GREGORIAN
METHOD:PUBLISH
X-ORIGINAL-URL:https://ocskiclub.org
X-WR-CALDESC:Events for OC
REFRESH-INTERVAL;VALUE=DURATION:PT1H
X-Robots-Tag:noindex
X-PUBLISHED-TTL:PT1H
BEGIN:VTIMEZONE
TZID:UTC
BEGIN:STANDARD
TZOFFSETFROM:+0000
TZOFFSETTO:+0000
TZNAME:UTC
DTSTART:20250101T000000
END:STANDARD
END:VTIMEZONE
BEGIN:VTIMEZONE
TZID:America/New_York
BEGIN:DAYLIGHT
TZOFFSETFROM:-0500
TZOFFSETTO:-0400
TZNAME:EDT
DTSTART:20250309T070000
END:DAYLIGHT
BEGIN:STANDARD
TZOFFSETFROM:-0400
TZOFFSETTO:-0500
TZNAME:EST
DTSTART:20251102T060000
END:STANDARD
BEGIN:DAYLIGHT
TZOFFSETFROM:-0500
TZOFFSETTO:-0400
TZNAME:EDT
DTSTART:20260308T070000
END:DAYLIGHT
BEGIN:STANDARD
TZOFFSETFROM:-0400
TZOFFSETTO:-0500
TZNAME:EST
DTSTART:20261101T060000
END:STANDARD
BEGIN:DAYLIGHT
TZOFFSETFROM:-0500
TZOFFSETTO:-0400
TZNAME:EDT
DTSTART:20270314T070000
END:DAYLIGHT
BEGIN:STANDARD
TZOFFSETFROM:-0400
TZOFFSETTO:-0500
TZNAME:EST
DTSTART:20271107T060000
END:STANDARD
END:VTIMEZONE
BEGIN:VEVENT
DTSTART;TZID=UTC:20260108T183000
DTEND;TZID=UTC:20260108T193000
DTSTAMP:20260423T234324
CREATED:20250925T184815Z
LAST-MODIFIED:20250925T184815Z
UID:10001244-1767897000-1767900600@ocskiclub.org
SUMMARY:Board Meeting - Monthly
DESCRIPTION:Monthly Board Meetings – The first Thursday of each calendar month. Unless otherwise noted on the OC upcoming events calendar \nMeeting at the Polish Community Center in Albany. Meeting start at 6:30 typical taking one hour \nAny questions\, reach out to President@ocskiclub.org \nMembers of the OC Ski Club are welcome to come to the Board meeting
URL:https://ocskiclub.org/event/board-meeting-monthly-9-2/
LOCATION:Polish Community Center\, 225 Washington Ave Ext\, Albany\, New York\, 12205
CATEGORIES:Upcoming Events
ATTACH;FMTTYPE=image/jpeg:https://ocskiclub.org/wp-content/uploads/2023/11/board-meeting-e1702430365886.jpg
END:VEVENT
BEGIN:VEVENT
DTSTART;TZID=America/New_York:20260108T183000
DTEND;TZID=America/New_York:20260108T210000
DTSTAMP:20260423T234324
CREATED:20250925T184436Z
LAST-MODIFIED:20251229T174256Z
UID:10001301-1767897000-1767906000@ocskiclub.org
SUMMARY:Nordic Gear Sale & Swap at the PCC Thursday Jan 8\, 2026
DESCRIPTION:Nordic Gear Sale and Swap \nCapital Region Nordic Alliance (CRNA) is selling some of their Nordic equipment at a vast discount. Russ Meyer\, President\, will be on hand to organize this event. If you are interested\, you can email Russ at russmyer08@gmail.com in advance so he can have something ready for you. Please note payment by CASH or CHECK or VENMO only\, we can not process credit cards. \nThe inventory of Rossi EVO touring skis (166\,176\, 186\, 196)\, adjustable CRNA US Ski Poles and Rossi combi boots and various classic boots from the inventory we will have on hand. \nPoles $35\, Skis $35\, Boots $40. Buy a package and pay just $100. All proceeds\, 100%\,  go directly to our programming for veterans\, adults and youth with visual & Mobility disabilities in the Capital Region and beyond. CRNA has received a sizable inventory of donated skis for those we serve with disabilities or sell to support our programming.  We will bring these skis as well. Selling them between 5-10 dollars. if bindings need to be switched the OC/CASTA Nordic friend will pay for the binding swap\, no labor charged\, just a donation to CRNA\,  any amount gladly appreciated \nWe also encourage our OC members to bring any XC equipment they would like to sell or swap. Please note the OC Ski Club will not be handling any transactions. All sales are person to person and sold “AS IS” \n  \nThe OC Ski Club event/meetings are held at the Polish Community Center in Albany on Washington Ave Ext. The event typically start at 6:30. The bar is also opens at 6:30. OC business news & announcements are typically done around 7:30 to 8:00 depending on the what the President’s schedule is that evening. But you coming for the FUN! \nAlso committee persons will be at the events so you can check out Ski Trips\, Bus days\, renew your membership plus any other item you need from your Ski Club.  \nPlease Note: NO outside beverages are allowed to be brought into the PCC (including bottled water). Beverages are available at the bar. \nAny questions\, reach out to admin@ocskiclub.org
URL:https://ocskiclub.org/event/nordic-gear-sale-at-the-pcc/
LOCATION:Polish Community Center\, 225 Washington Ave Ext\, Albany\, New York\, 12205
CATEGORIES:Upcoming Events
ATTACH;FMTTYPE=image/gif:https://ocskiclub.org/wp-content/uploads/2023/12/xc.gif
END:VEVENT
END:VCALENDAR